BEGIN:VCALENDAR
VERSION:2.0
PRODID:-//UK Cyber Cluster Collaboration - ECPv6.15.16//NONSGML v1.0//EN
CALSCALE:GREGORIAN
METHOD:PUBLISH
X-ORIGINAL-URL:https://ukc3.co.uk
X-WR-CALDESC:Events for UK Cyber Cluster Collaboration
REFRESH-INTERVAL;VALUE=DURATION:PT1H
X-Robots-Tag:noindex
X-PUBLISHED-TTL:PT1H
BEGIN:VTIMEZONE
TZID:UTC
BEGIN:STANDARD
TZOFFSETFROM:+0000
TZOFFSETTO:+0000
TZNAME:UTC
DTSTART:20230101T000000
END:STANDARD
END:VTIMEZONE
BEGIN:VEVENT
DTSTART;TZID=UTC:20241009T083000
DTEND;TZID=UTC:20241009T170000
DTSTAMP:20260422T102427
CREATED:20240812T132322Z
LAST-MODIFIED:20240812T132322Z
UID:5012-1728462600-1728493200@ukc3.co.uk
SUMMARY:Bristol and Bath Cyber | Cyber Con 2024
DESCRIPTION:Cyber Con 2024\nWednesday 9th October | 08:30 – 17:00 \nThe highly anticipated Bristol & Bath Cyber Conference is back for 2024. With a blend of workshops\, panel debates\, and 20 industry-leading speakers\, this is the region’s largest cyber collective. Bristol & Bath Cyber Con is designed to support people working in the industry and celebrate the most innovative cyber startups. \nGet early bird tickets here
URL:https://ukc3.co.uk/events/bristol-and-bath-cyber-cyber-con-2024/
LOCATION:Watershed 1 Canon’s Road Bristol BS1 5TX\, 1 Canon's Road\, Bristol\, BS1 5TX\, United Kingdom
CATEGORIES:Bristol and Bath
ATTACH;FMTTYPE=image/png:https://ukc3.co.uk/wp-content/uploads/2024/01/Bristol-Feb.png
END:VEVENT
END:VCALENDAR