BEGIN:VCALENDAR
VERSION:2.0
PRODID:-//UK Cyber Cluster Collaboration - ECPv6.15.16//NONSGML v1.0//EN
CALSCALE:GREGORIAN
METHOD:PUBLISH
X-WR-CALNAME:UK Cyber Cluster Collaboration
X-ORIGINAL-URL:https://ukc3.co.uk
X-WR-CALDESC:Events for UK Cyber Cluster Collaboration
REFRESH-INTERVAL;VALUE=DURATION:PT1H
X-Robots-Tag:noindex
X-PUBLISHED-TTL:PT1H
BEGIN:VTIMEZONE
TZID:UTC
BEGIN:STANDARD
TZOFFSETFROM:+0000
TZOFFSETTO:+0000
TZNAME:UTC
DTSTART:20230101T000000
END:STANDARD
END:VTIMEZONE
BEGIN:VEVENT
DTSTART;TZID=UTC:20241112T180000
DTEND;TZID=UTC:20241112T203000
DTSTAMP:20260422T085517
CREATED:20240909T135432Z
LAST-MODIFIED:20240909T135432Z
UID:5593-1731434400-1731443400@ukc3.co.uk
SUMMARY:Bristol and Bath Cyber | Byte Size Cyber
DESCRIPTION:Byte Size Cyber\nTuesday 12th November | 18:00 – 20:30 \nDive into the world of cybersecurity with us at Byte Sized Cyber. This exciting networking event will provide you with the opportunity to connect with fellow professionals and founders and expand your knowledge of cybersecurity’s latest trends. \nWhether you’re a seasoned professional or just starting out in the world of cybersecurity\, our Byte Sized Cyber event is the perfect opportunity to connect\, learn\, and grow. We look forward to seeing you there! \nRegister here
URL:https://ukc3.co.uk/events/bristol-and-bath-cyber-byte-size-cyber/
LOCATION:Runway East\, Bristol Bridge\, BS1 6AA\, Bristol\, BS1 6AA
CATEGORIES:Bristol and Bath
ATTACH;FMTTYPE=image/png:https://ukc3.co.uk/wp-content/uploads/2024/01/Bristol-March.png
END:VEVENT
END:VCALENDAR