BEGIN:VCALENDAR
VERSION:2.0
PRODID:-//UK Cyber Cluster Collaboration - ECPv6.15.16//NONSGML v1.0//EN
CALSCALE:GREGORIAN
METHOD:PUBLISH
X-WR-CALNAME:UK Cyber Cluster Collaboration
X-ORIGINAL-URL:https://ukc3.co.uk
X-WR-CALDESC:Events for UK Cyber Cluster Collaboration
REFRESH-INTERVAL;VALUE=DURATION:PT1H
X-Robots-Tag:noindex
X-PUBLISHED-TTL:PT1H
BEGIN:VTIMEZONE
TZID:UTC
BEGIN:STANDARD
TZOFFSETFROM:+0000
TZOFFSETTO:+0000
TZNAME:UTC
DTSTART:20240101T000000
END:STANDARD
END:VTIMEZONE
BEGIN:VEVENT
DTSTART;TZID=UTC:20250513T180000
DTEND;TZID=UTC:20250513T203000
DTSTAMP:20260421T230437
CREATED:20250425T132716Z
LAST-MODIFIED:20250425T133120Z
UID:7811-1747159200-1747168200@ukc3.co.uk
SUMMARY:Bite Sized Cyber
DESCRIPTION:THIS EVENT IS IN Bath – Carpenter House \nBristol & Bath Cyber Cluster has another fascinating networking event for you \n6:00pm – Arrivals and networking \n6:30pm – Welcome to Byte Sized Cyber \n7:00pm – Networking and refreshments \n8:00pm – Close \n\n\n\n\nDive into the world of cybersecurity with us at Byte Sized Cyber. This exciting networking event will provide you with the opportunity to connect with fellow professionals and founders and expand your knowledge of cybersecurity’s latest trends. \nWhether you’re a seasoned professional or just starting out in the world of cybersecurity\, our Byte Sized Cyber event is the perfect opportunity to connect\, learn\, and grow. We look forward to seeing you there! \nSponsored by: \nUKC3 – Connecting the Cyber Eco-system \nPowered by: techSPARK uk – Dedicated to strengthening the digital cluster in the West \nRegister now!
URL:https://ukc3.co.uk/events/bite-sized-cyber/
LOCATION:Carpenter House\, Broad Quay\, Bath\, BA1 1UB\, United Kingdom
CATEGORIES:Bristol and Bath
ATTACH;FMTTYPE=image/png:https://ukc3.co.uk/wp-content/uploads/2025/04/BB-3-1.png
END:VEVENT
END:VCALENDAR