BEGIN:VCALENDAR
VERSION:2.0
PRODID:-//UK Cyber Cluster Collaboration - ECPv6.15.16//NONSGML v1.0//EN
CALSCALE:GREGORIAN
METHOD:PUBLISH
X-ORIGINAL-URL:https://ukc3.co.uk
X-WR-CALDESC:Events for UK Cyber Cluster Collaboration
REFRESH-INTERVAL;VALUE=DURATION:PT1H
X-Robots-Tag:noindex
X-PUBLISHED-TTL:PT1H
BEGIN:VTIMEZONE
TZID:UTC
BEGIN:STANDARD
TZOFFSETFROM:+0000
TZOFFSETTO:+0000
TZNAME:UTC
DTSTART:20240101T000000
END:STANDARD
END:VTIMEZONE
BEGIN:VEVENT
DTSTART;TZID=UTC:20250611T080000
DTEND;TZID=UTC:20250611T170000
DTSTAMP:20260421T230745
CREATED:20250425T133947Z
LAST-MODIFIED:20250425T134136Z
UID:7820-1749628800-1749661200@ukc3.co.uk
SUMMARY:Bristol and Bath AI Meetup
DESCRIPTION:Welcome to the Bristol and Bath AI Meetup! Join us for an evening of exciting discussions and networking with fellow AI enthusiasts. The event will take place on Wed Jun 11 2025 at 18:00. Don’t miss this opportunity to connect with like-minded individuals and learn more about the latest advancements in artificial intelligence. See you there! \n\n\n\n\nArtificial Intelligence is transforming industries at an incredible pace\, yet the gap between the demand for AI skills and the available talent is widening. \nHow can we bridge this gap? What does ethical AI adoption look like? And how can businesses ensure they stay ahead? \nSupported by techSPARK\, a not-for-profit organisation with a mission to help people and businesses across Bristol and Bath leverage technology. \nDon’t miss out on this chance to learn\, network\, and innovate.
URL:https://ukc3.co.uk/events/bristol-and-bath-ai-meetup/
LOCATION:DeskLodge House Bristol\, 2 Redcliffe Way\, Redcliffe\, Bristol\, BS1 6NL\, United Kingdom
CATEGORIES:Bristol and Bath
ATTACH;FMTTYPE=image/png:https://ukc3.co.uk/wp-content/uploads/2025/04/BB-2-1.png
END:VEVENT
END:VCALENDAR