BEGIN:VCALENDAR
VERSION:2.0
PRODID:-//UK Cyber Cluster Collaboration - ECPv6.15.16//NONSGML v1.0//EN
CALSCALE:GREGORIAN
METHOD:PUBLISH
X-ORIGINAL-URL:https://ukc3.co.uk
X-WR-CALDESC:Events for UK Cyber Cluster Collaboration
REFRESH-INTERVAL;VALUE=DURATION:PT1H
X-Robots-Tag:noindex
X-PUBLISHED-TTL:PT1H
BEGIN:VTIMEZONE
TZID:UTC
BEGIN:STANDARD
TZOFFSETFROM:+0000
TZOFFSETTO:+0000
TZNAME:UTC
DTSTART:20240101T000000
END:STANDARD
END:VTIMEZONE
BEGIN:VEVENT
DTSTART;TZID=UTC:20251007T093000
DTEND;TZID=UTC:20251007T163000
DTSTAMP:20260421T194537
CREATED:20250602T131412Z
LAST-MODIFIED:20250828T080534Z
UID:8304-1759829400-1759854600@ukc3.co.uk
SUMMARY:CyberNorth Cluster's CyberFest - Community Conference
DESCRIPTION:CyberFest\, the North East’s biggest cyber security festival\, takes place throughout October\, across the North East. \nJoin CyberNorth at their flagship community conference which brings together keynote speakers\, workshops\, seminars and a fantastic opportunity to network with cyber security businesses and professionals from across the North East and UK. \n📅 7th October 2025 \n⏰ 9.30am – 4.15pm \n📍 Newcastle Civic Centre
URL:https://ukc3.co.uk/events/cyberfest-community-conference/
LOCATION:The Civic Centre\, Newcastle Upon Tyne
CATEGORIES:CyberNorth
ATTACH;FMTTYPE=image/png:https://ukc3.co.uk/wp-content/uploads/2025/04/CyberNorth-3.png
END:VEVENT
BEGIN:VEVENT
DTSTART;TZID=UTC:20251022T180000
DTEND;TZID=UTC:20251022T233000
DTSTAMP:20260421T194537
CREATED:20250602T131718Z
LAST-MODIFIED:20250602T131822Z
UID:8310-1761156000-1761175800@ukc3.co.uk
SUMMARY:CyberNorth Awards
DESCRIPTION:We are delighted to announce the CyberNorth Awards will be returning! These awards showcase and celebrate the achievements of individuals and organisations across the cyber security sector in the North East of England. A brilliant excuse for a team night out! \nWe will announce the Awards categories soon and open applications. Watch this space! \nLast Year’s Award Categories: \n\nInnovation Award\nBusiness or Team of the Year\nRising Star\nCommunity Champion
URL:https://ukc3.co.uk/events/cybernorth-awards/
CATEGORIES:CyberNorth
ATTACH;FMTTYPE=image/png:https://ukc3.co.uk/wp-content/uploads/2025/04/CyberNorth-3.png
END:VEVENT
END:VCALENDAR