BEGIN:VCALENDAR
VERSION:2.0
PRODID:-//UK Cyber Cluster Collaboration - ECPv6.15.16//NONSGML v1.0//EN
CALSCALE:GREGORIAN
METHOD:PUBLISH
X-WR-CALNAME:UK Cyber Cluster Collaboration
X-ORIGINAL-URL:https://ukc3.co.uk
X-WR-CALDESC:Events for UK Cyber Cluster Collaboration
REFRESH-INTERVAL;VALUE=DURATION:PT1H
X-Robots-Tag:noindex
X-PUBLISHED-TTL:PT1H
BEGIN:VTIMEZONE
TZID:UTC
BEGIN:STANDARD
TZOFFSETFROM:+0000
TZOFFSETTO:+0000
TZNAME:UTC
DTSTART:20240101T000000
END:STANDARD
END:VTIMEZONE
BEGIN:VEVENT
DTSTART;TZID=UTC:20251209T110000
DTEND;TZID=UTC:20251209T120000
DTSTAMP:20260421T181247
CREATED:20251204T152145Z
LAST-MODIFIED:20251204T152145Z
UID:13660-1765278000-1765281600@ukc3.co.uk
SUMMARY:CyberNorth: Mind the hype: Navigating AI Webinar
DESCRIPTION:In this webinar\, Waterstons will take a grounded look at the current state of AI—exploring where it delivers value\, where it falls short\, and the practical steps organisations can take now. \nSuccess with AI isn’t just about technology. It relies on three key foundations: having strong\, reliable data; drawing on the expertise of your people\, who understand your business best; and putting robust governance in place to build trust and manage risk. \nCrucially\, it’s not just an IT issue—it’s a strategic topic that needs leadership focus. \nWhether you’re cautiously curious or already experimenting with AI\, this session will help you ask the right questions\, get the right people involved\, avoid common mistakes\, and make informed decisions about where AI can add real value for your organisation. \nThis webinar is aimed at IT leaders.
URL:https://ukc3.co.uk/events/cybernorth-mind-the-hype-navigating-ai-webinar/
CATEGORIES:CyberNorth
ATTACH;FMTTYPE=image/png:https://ukc3.co.uk/wp-content/uploads/2025/04/CyberNorth-1.png
END:VEVENT
END:VCALENDAR