BEGIN:VCALENDAR
VERSION:2.0
PRODID:-//UK Cyber Cluster Collaboration - ECPv6.15.16//NONSGML v1.0//EN
CALSCALE:GREGORIAN
METHOD:PUBLISH
X-ORIGINAL-URL:https://ukc3.co.uk
X-WR-CALDESC:Events for UK Cyber Cluster Collaboration
REFRESH-INTERVAL;VALUE=DURATION:PT1H
X-Robots-Tag:noindex
X-PUBLISHED-TTL:PT1H
BEGIN:VTIMEZONE
TZID:UTC
BEGIN:STANDARD
TZOFFSETFROM:+0000
TZOFFSETTO:+0000
TZNAME:UTC
DTSTART:20250101T000000
END:STANDARD
END:VTIMEZONE
BEGIN:VEVENT
DTSTART;TZID=UTC:20260122T173000
DTEND;TZID=UTC:20260122T193000
DTSTAMP:20260421T164552
CREATED:20251215T141924Z
LAST-MODIFIED:20251215T141924Z
UID:14317-1769103000-1769110200@ukc3.co.uk
SUMMARY:CyberNorth: Senior Leader's Meetup
DESCRIPTION:At CyberNorth’s senior leaders meetup\, the opportunities around national and international trade missions will be discussed. \nJoin delegates from CyberNorth’s trade mission to Black Hat MEA in December\, find out their successes\, challenges\, and thoughts on the event and future opportunities. \nPlans on national and international trips throughout 2026 will be shared along with how businesses can get involved. \nCome along\, find out more\, share insights and network with fellow business leaders.
URL:https://ukc3.co.uk/events/cybernorth-senior-leaders-meetup/
LOCATION:Aspire Technology Solutions\, Pipewell Quay\, Pipewellgate\, Gateshead\, NE8 2BJ\, United Kingdom
CATEGORIES:CyberNorth
ATTACH;FMTTYPE=image/png:https://ukc3.co.uk/wp-content/uploads/2025/04/CyberNorth-2.png
END:VEVENT
END:VCALENDAR