BEGIN:VCALENDAR
VERSION:2.0
PRODID:-//UK Cyber Cluster Collaboration - ECPv6.15.16//NONSGML v1.0//EN
CALSCALE:GREGORIAN
METHOD:PUBLISH
X-ORIGINAL-URL:https://ukc3.co.uk
X-WR-CALDESC:Events for UK Cyber Cluster Collaboration
REFRESH-INTERVAL;VALUE=DURATION:PT1H
X-Robots-Tag:noindex
X-PUBLISHED-TTL:PT1H
BEGIN:VTIMEZONE
TZID:UTC
BEGIN:STANDARD
TZOFFSETFROM:+0000
TZOFFSETTO:+0000
TZNAME:UTC
DTSTART:20230101T000000
END:STANDARD
END:VTIMEZONE
BEGIN:VEVENT
DTSTART;TZID=UTC:20260212T090000
DTEND;TZID=UTC:20260212T160000
DTSTAMP:20260420T124307
CREATED:20251215T142558Z
LAST-MODIFIED:20251215T142558Z
UID:14319-1770886800-1770912000@ukc3.co.uk
SUMMARY:East Midlands: Cyber Summit 2026
DESCRIPTION:Join business leaders and industry experts at East Midlands cyber security event for small businesses. Discover the latest methods being used by hackers – as well as practical strategies to deter them and help keep your business safe. \nAbout this event \nEast Midlands Cyber Summit brings together 100+ business owners\, managers\, IT leads\, and digital specialists to showcase success stories\, share actionable advice\, and build vital connections – all in a single day at a central Leicester venue. \nExpect lively sessions led by national experts\, real-world case studies\, and fresh insights on defending your business against cyber threats. Learn about latest innovations\, how to access funded support\, and connect face-to-face with peers\, presenters\, and support organisations. \nWhether you’re responsible for risk\, compliance\, operations or IT\, this summit will give you practical tools\, resources\, and confidence to safeguard your business for the year ahead. \nRefreshments will be provided PLUS all delegates get exclusive access to event materials and continued regional support.
URL:https://ukc3.co.uk/events/east-midlands-cyber-summit-2026/
LOCATION:The Venue\, Western Boulevard\, Leicester LE2 7BU\, The Venue\, Western Boulevard\, Leicester\, Leicester\, LE2 7BU\, United Kingdom
CATEGORIES:East Midlands
ATTACH;FMTTYPE=image/png:https://ukc3.co.uk/wp-content/uploads/2025/04/EMCSC-1.png
END:VEVENT
BEGIN:VEVENT
DTSTART;TZID=UTC:20240213T140000
DTEND;TZID=UTC:20240213T160000
DTSTAMP:20260420T124307
CREATED:20240116T165131Z
LAST-MODIFIED:20240116T165131Z
UID:2866-1707832800-1707840000@ukc3.co.uk
SUMMARY:EMCSC | CyberConnect: Where IT meets everyone
DESCRIPTION:CyberConnect: Where IT meets everyone\nTuesday\, 13th February – 14:00 – 16:00 GMT\nLocation: Leicester City\nAddress: De Montfort University\, The Gateway\, Gateway House\, Room 5.39\, Leicester LE1 9BH \n\n\n\n\n“CyberConnect: Where IT meets everyone” is not just another tech event; it’s a unique opportunity for professionals from diverse sectors. Tailored to bridge the gap between IT specialists and non-technical professionals\, this event offers a dynamic platform for cross-industry collaboration and knowledge exchange. Whether you’re a legal expert navigating the complexities of cyber security regulations or a finance professional safeguarding sensitive data\, this event will provide insights that exceed traditional boundaries. \nJoin East Midlands Cyber Security Cluster and others to explore cutting-edge solutions\, gain a comprehensive understanding of the evolving cyber landscape\, and build invaluable connections that transcend industry silos. Don’t miss this opportunity to be part of a transformative experience that empowers both IT specialists and professionals from various sectors towards a secure digital future. \nDuring the event\, the worlds of technology\, law\, and finance meet for a holistic perspective on the challenges and opportunities in our interconnected digital age. The event will be led by Dr Ismini Vasileiou\, the Director of the East Midlands Cyber Security Cluster in collaboration with De Montfort University. Join for an inspiring line up of speakers.
URL:https://ukc3.co.uk/events/emcsc-cyberconnect-where-it-meets-everyone/
LOCATION:De Montfort University\, The Gateway\, Gateway House\, Room 5.39\, Leicester LE1 9BH\, De Montfort University\, The Gateway\, Gateway House\, Room 5.39\, Leicester\, LE1 9BH\, United Kingdom
CATEGORIES:East Midlands
ATTACH;FMTTYPE=image/png:https://ukc3.co.uk/wp-content/uploads/2024/01/East-Midlands-Cyber-Event.png
END:VEVENT
END:VCALENDAR