BEGIN:VCALENDAR
VERSION:2.0
PRODID:-//UK Cyber Cluster Collaboration - ECPv6.15.16//NONSGML v1.0//EN
CALSCALE:GREGORIAN
METHOD:PUBLISH
X-WR-CALNAME:UK Cyber Cluster Collaboration
X-ORIGINAL-URL:https://ukc3.co.uk
X-WR-CALDESC:Events for UK Cyber Cluster Collaboration
REFRESH-INTERVAL;VALUE=DURATION:PT1H
X-Robots-Tag:noindex
X-PUBLISHED-TTL:PT1H
BEGIN:VTIMEZONE
TZID:UTC
BEGIN:STANDARD
TZOFFSETFROM:+0000
TZOFFSETTO:+0000
TZNAME:UTC
DTSTART:20240101T000000
END:STANDARD
END:VTIMEZONE
BEGIN:VEVENT
DTSTART;TZID=UTC:20250902T110000
DTEND;TZID=UTC:20250902T140000
DTSTAMP:20260422T002520
CREATED:20250717T140551Z
LAST-MODIFIED:20250828T081130Z
UID:8566-1756810800-1756821600@ukc3.co.uk
SUMMARY:Midlands Cyber: Herefordshire Digital Forum Relaunch
DESCRIPTION:We are pleased to announce the return of the Herefordshire Digital Forum\, formerly known as the Cyber & Technology Forum; with a fresh name\, renewed focus\, and bold ambition for the region’s digital future.  \nDelivered by Midlands Cyber\, in partnership with the Herefordshire Growth Hub\, the Forum is a space to connect\, contribute\, and collaborate on shaping the region’s digital future. \nThe Forum has been renamed to better reflect the wider scope of opportunity in Herefordshire’s evolving digital economy. While cybersecurity remains a key enabler\, the Digital Forum embraces a broader vision while still ensuring secure digital transformation across all sectors: from manufacturing and agri-tech to healthcare\, education\, and the public sector. \nTopics to be covered include: \n\n\nRegional Insights & Local Opportunity – Applying Research to Herefordshire \n\n\n\n\nDiscuss how to build a strong local talent pipeline \n\n\n\n\nExplore investment opportunities for Herefordshire-based businesses and their digital transformation journeys. \n\n\n\n\nHow to shape the Forum’s new direction through shared insights and experiences.
URL:https://ukc3.co.uk/events/herefordshire-digital-forum-relaunch/
LOCATION:Cyber Quarter\, Hursey Road\, Hereford\, HR2 6FP\, Cyber Quarter\, Hursey Road\, Hereford\, Herefordshire \, HR2 6FP\, United Kingdom
CATEGORIES:Midlands Cyber
ATTACH;FMTTYPE=image/png:https://ukc3.co.uk/wp-content/uploads/2025/04/Midlands-Cyber-5.png
END:VEVENT
END:VCALENDAR