BEGIN:VCALENDAR
VERSION:2.0
PRODID:-//UK Cyber Cluster Collaboration - ECPv6.15.16//NONSGML v1.0//EN
CALSCALE:GREGORIAN
METHOD:PUBLISH
X-ORIGINAL-URL:https://ukc3.co.uk
X-WR-CALDESC:Events for UK Cyber Cluster Collaboration
REFRESH-INTERVAL;VALUE=DURATION:PT1H
X-Robots-Tag:noindex
X-PUBLISHED-TTL:PT1H
BEGIN:VTIMEZONE
TZID:UTC
BEGIN:STANDARD
TZOFFSETFROM:+0000
TZOFFSETTO:+0000
TZNAME:UTC
DTSTART:20240101T000000
END:STANDARD
END:VTIMEZONE
BEGIN:VEVENT
DTSTART;VALUE=DATE:20250127
DTEND;VALUE=DATE:20250207
DTSTAMP:20260422T144217
CREATED:20241211T093731Z
LAST-MODIFIED:20241216T091232Z
UID:6435-1737936000-1738886399@ukc3.co.uk
SUMMARY:Innovation Worcestershire: Tech Fest
DESCRIPTION:Midlands Cyber in partnership with Worcestershire Growth Hub and BetaDen\, will celebrate Worcestershire’s innovative nature over two weeks through a carefully curated selection of activity ranging from AI Insights\, Cyber Workshops to Leadership Roundtables culminating in the BetaDen Showcase\, highlighting the very best of innovation in Worcestershire. ? \nWhat to Expect: \n\nSME Innovation Start-up Support\nDigital Skills Roundtable\nCyber Workshops\nNetworking sessions to connect with like-minded individuals\nWomen in Tech Brunch\nBetaDen Showcase 8.0\n\nWhy Attend: \nDiscover the future of technology in Worcestershire\, gain valuable knowledge\, and expand your professional network. \nSign up now for alerts on all events as they get announced for Innovation Worcestershire: Tech Fest! \nInnovation Worcestershire: Tech Fest 2025 | Linktree\n\nInnovation Worcestershire: Tech Fest Tickets
URL:https://ukc3.co.uk/events/innovation-worcestershire-tech-fest/
LOCATION:Worcestershire\, Worcestershire
CATEGORIES:Midlands Cyber
ATTACH;FMTTYPE=image/png:https://ukc3.co.uk/wp-content/uploads/2023/12/Midlands-Cyber.png
END:VEVENT
BEGIN:VEVENT
DTSTART;TZID=UTC:20250127T160000
DTEND;TZID=UTC:20250127T190000
DTSTAMP:20260422T144217
CREATED:20250108T164314Z
LAST-MODIFIED:20250108T164314Z
UID:6582-1737993600-1738004400@ukc3.co.uk
SUMMARY:Worcestershire Tech Fest: Networking Launch
DESCRIPTION:This celebratory event will set the stage for two weeks of cutting-edge technology showcases\, interactive sessions\, and inspiring conversations. The Networking Launch offers an exclusive opportunity to connect with key players in the tech industry\, including innovators\, entrepreneurs\, and regional leaders. \nWhat to Expect: \n\nNetworking Opportunities: Build valuable connections with industry professionals\, local businesses\, and tech enthusiasts.\nKeynote Speaker: Gain insights from an inspiring talk by a regional tech leader\nIntroduction to Tech Fest: Discover the exciting events and activities planned for Worcestershire Tech Fest.\nDrinks and Light Refreshments: Enjoy a relaxed atmosphere with complimentary refreshments.\n\nDate: Monday\, 27th January 2025 \nTime: 4:00 PM – 7:00 PM \nLocation: Royal Porcelain Works\, Severn St\, Worcester\, WR1 2NE \nWho Should Attend? \n\nTech enthusiasts and professionals\nEntrepreneurs and startups\nStudents and aspiring innovators\nLocal businesses wanting to become more digitally savvy\n\nThis is a fantastic opportunity to kickstart Worcestershire Tech Fest and immerse yourself in the region’s vibrant tech community. \nSpaces are limited\, so reserve your spot now!
URL:https://ukc3.co.uk/events/worcestershire-tech-fest-networking-launch/
LOCATION:Royal Porcelain Works\, Royal Porcelain Works\, Severn St\, Worcester\, WR1 2NE\, United Kingdom
CATEGORIES:Midlands Cyber
ATTACH;FMTTYPE=image/png:https://ukc3.co.uk/wp-content/uploads/2023/10/Midlands-2.png
END:VEVENT
END:VCALENDAR