BEGIN:VCALENDAR
VERSION:2.0
PRODID:-//UK Cyber Cluster Collaboration - ECPv6.15.16//NONSGML v1.0//EN
CALSCALE:GREGORIAN
METHOD:PUBLISH
X-WR-CALNAME:UK Cyber Cluster Collaboration
X-ORIGINAL-URL:https://ukc3.co.uk
X-WR-CALDESC:Events for UK Cyber Cluster Collaboration
REFRESH-INTERVAL;VALUE=DURATION:PT1H
X-Robots-Tag:noindex
X-PUBLISHED-TTL:PT1H
BEGIN:VTIMEZONE
TZID:UTC
BEGIN:STANDARD
TZOFFSETFROM:+0000
TZOFFSETTO:+0000
TZNAME:UTC
DTSTART:20250101T000000
END:STANDARD
END:VTIMEZONE
BEGIN:VEVENT
DTSTART;TZID=UTC:20260216T080000
DTEND;TZID=UTC:20260226T170000
DTSTAMP:20260421T165012
CREATED:20251114T154233Z
LAST-MODIFIED:20251114T154425Z
UID:12711-1771228800-1772125200@ukc3.co.uk
SUMMARY:Midlands Cyber: Worcestershire TechFest 2026
DESCRIPTION:Midlands Cyber is proud to be a founding organisation of Worcestershire TechFest\, the region’s annual celebration of technology\, innovation and digital growth. \nTaking place from 16th – 26th February 2026\, TechFest brings together businesses\, entrepreneurs\, educators and innovators from across Worcestershire to explore the latest advancements in technology: from artificial intelligence and digital transformation to cybersecurity and future skills. \nAs a key partner\, Midlands Cyber continues to champion the region’s thriving cyber and tech ecosystem\, supporting collaboration between industry\, academia and the public sector to drive sustainable innovation and resilience across all sectors. Join us and be part of the county’s growing innovation movement.
URL:https://ukc3.co.uk/events/midlands-cyber-worcestershire-techfest-2026/
LOCATION:West Midlands
CATEGORIES:Midlands Cyber
ATTACH;FMTTYPE=image/png:https://ukc3.co.uk/wp-content/uploads/2025/04/Midlands-Cyber-3.png
END:VEVENT
END:VCALENDAR