BEGIN:VCALENDAR
VERSION:2.0
PRODID:-//UK Cyber Cluster Collaboration - ECPv6.15.16//NONSGML v1.0//EN
CALSCALE:GREGORIAN
METHOD:PUBLISH
X-ORIGINAL-URL:https://ukc3.co.uk
X-WR-CALDESC:Events for UK Cyber Cluster Collaboration
REFRESH-INTERVAL;VALUE=DURATION:PT1H
X-Robots-Tag:noindex
X-PUBLISHED-TTL:PT1H
BEGIN:VTIMEZONE
TZID:UTC
BEGIN:STANDARD
TZOFFSETFROM:+0000
TZOFFSETTO:+0000
TZNAME:UTC
DTSTART:20220101T000000
END:STANDARD
END:VTIMEZONE
BEGIN:VEVENT
DTSTART;TZID=UTC:20251127T091500
DTEND;TZID=UTC:20251127T103000
DTSTAMP:20260421T135730
CREATED:20251114T154716Z
LAST-MODIFIED:20251114T154716Z
UID:12714-1764234900-1764239400@ukc3.co.uk
SUMMARY:NI Cyber: The Breakfast Club
DESCRIPTION:An open house session to keep the cluster members\, partners\, stakeholders up to date on NI Cyber and each other’s business.\n\n\n\nThursday 27th November 2025 at CSIT\, Belfast. \nJoin NI Cyber for great networking and the opportunity to build your knowledge and understanding about the cyber security ecosystem here in NI. \n\n09.15 Breakfast & chat.\n09.30 Welcome!\n09.40 Updates\, news\, etc.\n09.50 Guest speaker.\n10.00 Guest Speaker.\n10.10 Member spotlight\n10.20 AOB.\n10.30 Wrap up and networking.\n\nPlease note that there will be photography at all of our events.
URL:https://ukc3.co.uk/events/ni-cyber-the-breakfast-club-3/
CATEGORIES:NI Cyber
ATTACH;FMTTYPE=image/png:https://ukc3.co.uk/wp-content/uploads/2025/04/NI-Cyber-4.png
END:VEVENT
BEGIN:VEVENT
DTSTART;TZID=UTC:20251113T163000
DTEND;TZID=UTC:20251113T193000
DTSTAMP:20260421T135730
CREATED:20251027T135633Z
LAST-MODIFIED:20251027T142541Z
UID:10814-1763051400-1763062200@ukc3.co.uk
SUMMARY:NI Cyber: Protecting healthcare: Prevention is better than cure.
DESCRIPTION:Healthcare is a crucial part of our critical infrastructure. With healthcare providers constantly under attack\, it needs to be protected. \nAs the adage says\, ‘prevention is always better than cure’ and when it comes to cyber security\, this is most certainly true. \nWith the UK National Cyber Security Centre recently highlighting a significant increase in cyber attacks over the past year\, health care organisations are increasingly under threat of significant and devastating attacks. \nIn partnership with Amicis and Bitdefender\, a deep dive into cyber security for healthcare providers will be hosted. \nWho should attend? \n– Healthcare IT professionals \n– Healthcare authorities and organisations \n– Compliance and data privacy professionals \n– Digital Health providers- Medtech Innovators \n– Healthtech innovators \nAmicis Group is a leading UK-based Managed Security Service Provider (MSSP)\, helping organisations stay secure\, compliant\, and resilient in the face of evolving cyber threats.  Cyber attacks are no longer a question of if\, but when. From ransomware and phishing to insider threats and supply chain vulnerabilities\, businesses of all sizes are being targeted daily. The financial\, legal and reputational damage can be devastating. The business impact can be catastrophic: contracts lost\, directors liable\, and a brand reputation in ruins. \nBitdefender is a global cybersecurity leader headquartered in Europe\, securing over 500 million systems across 170+ countries. For more than two decades\, they have been at the forefront of threat prevention\, detection\, and response\, harnessing the power of AI to deliver award-winning technologies trusted by businesses worldwide. Their advanced solutions combine real-time intelligence with cutting-edge innovation\, empowering IT leaders to stay ahead of attackers\, protect their organisations\, and drive growth with confidence.
URL:https://ukc3.co.uk/events/northern-ireland-protecting-healthcare-prevention-is-better-than-cure/
LOCATION:Waterman\, 5-23 Hill Street\, Belfast\, BT1 2LA\, United Kingdom
CATEGORIES:NI Cyber
ATTACH;FMTTYPE=image/png:https://ukc3.co.uk/wp-content/uploads/2025/04/NI-Cyber-2.png
END:VEVENT
BEGIN:VEVENT
DTSTART;TZID=UTC:20250616T130000
DTEND;TZID=UTC:20250616T140000
DTSTAMP:20260421T135730
CREATED:20250530T151250Z
LAST-MODIFIED:20250828T082714Z
UID:8237-1750078800-1750082400@ukc3.co.uk
SUMMARY:NI Cyber: Understanding DORA – What it means for your Cyber Resilience Strategy
DESCRIPTION:Objective:\nTo provide NI cybersecurity firms with an overview of the EU Digital Operational Resilience Act (DORA)\, including its relevance\, key requirements\, and potential opportunities for the sector in supporting in-scope financial entities in the EU with compliance. \nWho should attend:\n\nCybersecurity product and service providers in NI;\nCompliance and risk professionals within the local cyber sector; and\nTech companies exploring opportunities in regulated sectors.\n\nWhat you’ll learn:\n\nWhat is DORA? Background and policy drivers.\nWho does it apply to and how? (overview of in-scope EU financial entities and ICT third parties)\nCore pillars of DORA:\n\nICT risk management \nIncident reporting \nDigital operational resilience testing \nThird-party risk and oversight \n\nWhat this means for NI cybersecurity product and service providers.\nHow NI cybersecurity firms can position themselves as strategic partners to DORA-regulated entities.\n\nContributors:\n\nRussell Jones\, Senior Associate\, Finance\, A&L Goodbody Northern Ireland LLP\nCarrie McMeel\, Senior Associate\, Litigation\, \, Senior Associate\, Finance\, A&L Goodbody Northern Ireland LLP\nSimon Whittaker\, Chair of NI Cyber Steering Committee and Head of Cyber Security at Vertical Structure\, an Instil company.
URL:https://ukc3.co.uk/events/understanding-dora-what-it-means-for-your-cyber-resilience-strategy/
LOCATION:Online
CATEGORIES:NI Cyber
ATTACH;FMTTYPE=image/png:https://ukc3.co.uk/wp-content/uploads/2025/04/NI-Cyber-3.png
END:VEVENT
BEGIN:VEVENT
DTSTART;TZID=UTC:20250307T094500
DTEND;TZID=UTC:20250307T123000
DTSTAMP:20260421T135730
CREATED:20250305T115528Z
LAST-MODIFIED:20250305T115528Z
UID:7176-1741340700-1741350600@ukc3.co.uk
SUMMARY:Resilient Women\, Accelerating Action
DESCRIPTION:Join NI Cyber at Danske Bank UK HQ on Friday 7th March for Resilient Women\, Accelerating Action.\nJoin leaders from our local cyber community as we discuss the role of mentoring and resilience in building your career.
URL:https://ukc3.co.uk/events/resilient-women-accelerating-action/
LOCATION:Donnegal Square\, Donegall Square West\, Belfast\, BT1 6JS\, United Kingdom
CATEGORIES:NI Cyber
ATTACH;FMTTYPE=image/png:https://ukc3.co.uk/wp-content/uploads/2023/09/NI-Cyber-1.png
END:VEVENT
BEGIN:VEVENT
DTSTART;TZID=UTC:20250130T093000
DTEND;TZID=UTC:20250130T103000
DTSTAMP:20260421T135730
CREATED:20250108T165112Z
LAST-MODIFIED:20250108T165112Z
UID:6592-1738229400-1738233000@ukc3.co.uk
SUMMARY:January Breakfast Club at A&L Goodbody
DESCRIPTION:An open house session to keep the cluster members\, partners\, stakeholders up to date on NI Cyber and each other’s business. \nWe’re delighted that our supporters and trusted colleagues at A&L Goodbody LLP will be hosting the first of our Breakfast Club meet ups in 2025. \nJoin us for great networking and the opportunity to build your knowledge and understanding about the cyber security ecosystem here in NI. \nAgenda – please note this Breakfast Club will start slightly later for people to access Belfast City Centre in time. \n\n09.15 Breakfast & chat.\n09.45 Welcome!\n09.50 Updates\, news\, etc.\n10.00 Member spotlight.\n10.10 Guest speaker.\n10.20 Guest Speaker.\n10.30 AOB.\n10. 40 Wrap up and networking.\n\nPlease note that there will be photography at all of our events. If you do not wish to be featured\, please let one of the organisers know on the day.
URL:https://ukc3.co.uk/events/january-breakfast-club-at-al-goodbody-2/
LOCATION:A&L Goodbody\, 42-46 Fountain Street\, Belfast\, BT1 5EF
CATEGORIES:NI Cyber
ATTACH;FMTTYPE=image/png:https://ukc3.co.uk/wp-content/uploads/2023/10/Ni-Cyber-3.png
END:VEVENT
BEGIN:VEVENT
DTSTART;TZID=UTC:20241230T093000
DTEND;TZID=UTC:20241230T223000
DTSTAMP:20260421T135730
CREATED:20241211T100411Z
LAST-MODIFIED:20241211T100411Z
UID:6444-1735551000-1735597800@ukc3.co.uk
SUMMARY:January Breakfast Club at A&L Goodbody
DESCRIPTION:We’re delighted that our supporters and trusted colleagues at A&L Goodbody LLP will be hosting the first of our Breakfast Club meet ups in 2025. \nJoin us for great networking and the opportunity to build your knowledge and understanding about the cyber security ecosystem here in NI. \nAgenda – please note this Breakfast Club will start slightly later for people to access Belfast City Centre in time. \n\n09.15 Breakfast & chat.\n09.45 Welcome!\n09.50 Updates\, news\, etc.\n10.00 Member spotlight.\n10.10 Guest speaker.\n10.20 Guest Speaker.\n10.30 AOB.\n10. 40 Wrap up and networking.\n\nPlease note that there will be photography at all of our events. If you do not wish to be featured\, please let one of the organisers know on the day.
URL:https://ukc3.co.uk/events/january-breakfast-club-at-al-goodbody/
LOCATION:A&L Goodbody\, 42-46 Fountain Street\, Belfast\, BT1 5EF
CATEGORIES:NI Cyber
ATTACH;FMTTYPE=image/png:https://ukc3.co.uk/wp-content/uploads/2024/03/NI-Cyber-1.png
END:VEVENT
BEGIN:VEVENT
DTSTART;TZID=UTC:20241212T090000
DTEND;TZID=UTC:20241212T223000
DTSTAMP:20260421T135730
CREATED:20241211T100540Z
LAST-MODIFIED:20241211T100540Z
UID:6447-1733994000-1734042600@ukc3.co.uk
SUMMARY:Christmas Breakfast Club
DESCRIPTION:Come join us for a festive Breakfast Club wrapping up our series of events for 2024. Whether you’re a regular attendee or a first-timer\, all are welcome to join us to hear about the latest updates in cyber security. Don’t miss out on this opportunity to connect with others and enjoy a tasty breakfast spread. Mark your calendar and we’ll see you there!
URL:https://ukc3.co.uk/events/christmas-breakfast-club/
LOCATION:Institute of Electronics Communications & Information Technology Queens Road Belfast BT3 9DT\, Institute of Electronics Communications & Information Technology Queens Road\, Belfast\, BT3 9DT\, United Kingdom
CATEGORIES:NI Cyber
ATTACH;FMTTYPE=image/png:https://ukc3.co.uk/wp-content/uploads/2024/03/NI-Cyber-1.png
END:VEVENT
BEGIN:VEVENT
DTSTART;TZID=UTC:20240829T093000
DTEND;TZID=UTC:20240829T223000
DTSTAMP:20260421T135730
CREATED:20240704T101158Z
LAST-MODIFIED:20240704T101158Z
UID:4919-1724923800-1724970600@ukc3.co.uk
SUMMARY:NI Cyber | The Breakfast club
DESCRIPTION:Northern Ireland | Breakfast Club\n29th August 2024 \nInformal networking and catch-up over coffee and breakfast. \nAbout the event: \nTypical running order\, but this is a community-driven event so get in touch with NI Cyber if you’d like to be part of the agenda or have a topic you’d like to see covered/addressed. \n0915: Breakfast and chat \n0930: Welcome! \n0935: Updates\, news\, etc \n0940: Members spotlight \n0945: Guest Speaker \n1015: AOB \n1030: Thank you \nRegister here 
URL:https://ukc3.co.uk/events/ni-cyber-the-breakfast-club-2/
LOCATION:Institute of Electronics Communications & Information Technology Queens Road Belfast BT3 9DT\, Institute of Electronics Communications & Information Technology Queens Road\, Belfast\, BT3 9DT\, United Kingdom
CATEGORIES:NI Cyber
ATTACH;FMTTYPE=image/png:https://ukc3.co.uk/wp-content/uploads/2024/01/NI-Cyber-1.png
END:VEVENT
BEGIN:VEVENT
DTSTART;TZID=UTC:20240530T093000
DTEND;TZID=UTC:20240530T103000
DTSTAMP:20260421T135730
CREATED:20240325T164841Z
LAST-MODIFIED:20240325T164841Z
UID:4125-1717061400-1717065000@ukc3.co.uk
SUMMARY:NI Cyber | May Breakfast Club
DESCRIPTION:NI Cyber: May Breakfast Club\nThursday 30th May\, 09:30 am – 10:30 am BST\nNI Cyber back at ECIT for the March Breakfast Club. \nMore information TBD \nAgenda\n0915 Breakfast & chat\n0930 Welcome!\n0935 Updates\, news\, etc.\n0940 Member spotlight\n0945 Guest speaker\n1000 Guest Speaker\n1015 AOB\n1030 Thank you!
URL:https://ukc3.co.uk/events/ni-cyber-may-breakfast-club-2/
LOCATION:Institute of Electronics Communications & Information Technology Queens Road Belfast BT3 9DT\, Institute of Electronics Communications & Information Technology Queens Road\, Belfast\, BT3 9DT\, United Kingdom
CATEGORIES:NI Cyber
ATTACH;FMTTYPE=image/png:https://ukc3.co.uk/wp-content/uploads/2024/03/NI-Cyber-2.png
END:VEVENT
BEGIN:VEVENT
DTSTART;TZID=UTC:20240502T160000
DTEND;TZID=UTC:20240502T200000
DTSTAMP:20260421T135730
CREATED:20240325T165157Z
LAST-MODIFIED:20240325T165157Z
UID:4126-1714665600-1714680000@ukc3.co.uk
SUMMARY:NI Cyber | Tech & Tipples Spring Edition
DESCRIPTION:NI Cyber: Tech & Tipples Spring Edition\nThu\, 2 May 2024 18:00 – 20:00 BST\nNI Cyber are delighted to invite you to an insightful panel session delving into the intricate intersection of psychology and cybersecurity. In today’s increasingly digitalised world\, understanding the human aspect of cybersecurity is paramount. Join them as they unravel the psychological dynamics that influence behaviours\, decisions\, and vulnerabilities in cyberspace. Kindly hosted by Pinsent Masons. \nThe panel will discuss topics such as \n\nThe Human Element of Cyber Threats: What motivates individuals to engage in cybercrime? How do factors like anonymity and perceived consequences influence behaviour in cyberspace?\nCognitive Biases and Decision Making: How do cognitive biases impact our ability to assess risks and make decisions in the realm of cybersecurity? What role does human psychology play in susceptibility to phishing attacks and social engineering tactics?\nCybersecurity Culture and Awareness: How can organizations foster a culture of cybersecurity awareness? What psychological strategies can be employed to encourage proactive cybersecurity behaviours among employees and stakeholders?\nThe Psychological Impact of Cyber Incidents: What are the psychological ramifications for individuals and organizations following cyber-attacks or data breaches? How can psychological principles be leveraged in incident response and recovery efforts?\nEthical Considerations: What ethical dilemmas arise in the intersection of psychology and cybersecurity? How do we navigate issues such as privacy\, consent\, and manipulation in cybersecurity practices?\n\nAudience Engagement: \nWe invite you to actively participate in this engaging dialogue by sharing your perspectives\, asking questions\, and contributing to the collective understanding of the psychology of cybersecurity. Your insights are invaluable in shaping the discourse around this critical subject. \nDon’t miss this opportunity to gain deeper insights into the intricate interplay of human behaviour and cybersecurity. Reserve your spot now and join us for an enlightening panel session that promises to uncover the psychology behind the digital defences of tomorrow.
URL:https://ukc3.co.uk/events/ni-cyber-tech-tipples-spring-edition-2/
LOCATION:1 Lanyon Place Belfast BT1 3LP\, Pinsent Masons\, 1 Lanyon Place\, Belfast\, BT1 3LP
CATEGORIES:NI Cyber
ATTACH;FMTTYPE=image/png:https://ukc3.co.uk/wp-content/uploads/2024/03/NI-Cyber-3.png
END:VEVENT
BEGIN:VEVENT
DTSTART;TZID=UTC:20240425T093000
DTEND;TZID=UTC:20240425T103000
DTSTAMP:20260421T135730
CREATED:20240325T164709Z
LAST-MODIFIED:20240325T164709Z
UID:4124-1714037400-1714041000@ukc3.co.uk
SUMMARY:NI Cyber | April Breakfast Club
DESCRIPTION:NI Cyber: April Breakfast Club\nThursday 25th April\, 09:30 am – 10:30 am BST\nNI Cyber back at ECIT for the March Breakfast Club. \nMore information TBD \nAgenda\n0915 Breakfast & chat\n0930 Welcome!\n0935 Updates\, news\, etc.\n0940 Member spotlight\n0945 Guest speaker\n1000 Guest Speaker\n1015 AOB\n1030 Thank you!
URL:https://ukc3.co.uk/events/ni-cyber-april-breakfast-club-2/
LOCATION:Institute of Electronics Communications & Information Technology Queens Road Belfast BT3 9DT\, Institute of Electronics Communications & Information Technology Queens Road\, Belfast\, BT3 9DT\, United Kingdom
CATEGORIES:NI Cyber
ATTACH;FMTTYPE=image/png:https://ukc3.co.uk/wp-content/uploads/2024/03/NI-Cyber-1.png
END:VEVENT
BEGIN:VEVENT
DTSTART;TZID=UTC:20240321T093000
DTEND;TZID=UTC:20240321T103000
DTSTAMP:20260421T135730
CREATED:20240129T163431Z
LAST-MODIFIED:20240129T163431Z
UID:4088-1711013400-1711017000@ukc3.co.uk
SUMMARY:NI Cyber | March Breakfast Club
DESCRIPTION:NI Cyber: March Breakfast Club\nThursday 21st March\, 09:30 am – 10:30 am BST\nNI Cyber back at ECIT for the March Breakfast Club. \nMore information TBD \nAgenda\n0915 Breakfast & chat\n0930 Welcome!\n0935 Updates\, news\, etc.\n0940 Member spotlight\n0945 Guest speaker\n1000 Guest Speaker\n1015 AOB\n1030 Thank you!
URL:https://ukc3.co.uk/events/ni-cyber-march-breakfast-club-2/
LOCATION:Institute of Electronics Communications & Information Technology Queens Road Belfast BT3 9DT\, Institute of Electronics Communications & Information Technology Queens Road\, Belfast\, BT3 9DT\, United Kingdom
CATEGORIES:NI Cyber
ATTACH;FMTTYPE=image/png:https://ukc3.co.uk/wp-content/uploads/2024/01/NI-Cyber-2.png
END:VEVENT
BEGIN:VEVENT
DTSTART;TZID=UTC:20240308T120000
DTEND;TZID=UTC:20240308T140000
DTSTAMP:20260421T135730
CREATED:20240228T154346Z
LAST-MODIFIED:20240228T154346Z
UID:3060-1709899200-1709906400@ukc3.co.uk
SUMMARY:NI Cyber | International Women's (next) Day
DESCRIPTION:Empowering Small Businesses: Navigating Cybersecurity in a Digital Era\nFriday 8th March\, 12:00 pm – 02:00 pm GMT\nNI Cyber are inviting you to ECIT for a lunchtime session to celebrate International Women’s Day\, kindly hosted by CSIT. \n“OMG” moments\, we’ve all had them and would often like to forget them\, but sharing stories about times when things went wrong in business can be really helpful. Those “OMG” moments can be a learning opportunity for others\, and sharing builds trust and authenticity. It can help to inspire\, motivate and even foster innovation. And there’s an aspect of personal growth too – embracing failure as a learning opportunity can lead to greater self-awareness and resilience. \nWhy attend: \n1. A sense of community: Meet with other women working in cyber and information security – we are out there! and we’ve found that the mutual support and encouragement boosts confidence and motivation \n2. Valuable connections: Meet with other women in cybersecurity and build a strong professional network \n3. See that the “OMG” moment is never as bad as it seems! \nIf you’re eager to share your “OMG” moment\, we’re seeking a few engaging 3-minute lightning talks. This is an excellent chance to hone your presentation skills in front of a receptive and supportive audience! (gillian@nicyber.tech).
URL:https://ukc3.co.uk/events/ni-cyber-international-womens-next-day/
LOCATION:Institute of Electronics Communications & Information Technology Queens Road Belfast BT3 9DT\, Institute of Electronics Communications & Information Technology Queens Road\, Belfast\, BT3 9DT\, United Kingdom
CATEGORIES:NI Cyber
ATTACH;FMTTYPE=image/png:https://ukc3.co.uk/wp-content/uploads/2024/02/NI-Cyber-2.png
END:VEVENT
BEGIN:VEVENT
DTSTART;TZID=UTC:20240306T091500
DTEND;TZID=UTC:20240306T113000
DTSTAMP:20260421T135730
CREATED:20240228T153733Z
LAST-MODIFIED:20240228T153733Z
UID:3056-1709716500-1709724600@ukc3.co.uk
SUMMARY:NI Cyber | Empowering Small Businesses: Navigating Cybersecurity in a Digital Era
DESCRIPTION:Empowering Small Businesses: Navigating Cybersecurity in a Digital Era\nWednesday 6th March\, 09:15 am – 11:30 am GMT\nIn this digital-first world SMEs need to consider losses relating to damage to\, or loss of information from\, IT systems and networks. \nThe NI Cyber expert panel will discuss the importance of prevention – the key to a sustainable business model. \nWhy attend \nDiscover how proactive measures are the keys to a resilient and secure future for your business. \nAlso a chance for 1-2-1 with local experts to get some high-level advice and guidance! \n  \nYou’ll hear from \nSam Kinkaid is a Detective with over 27 years’ service who for the last 9 years has been based with the Police Service of Northern Ireland Cyber Crime Centre. Having dealt with cyber related investigations such as insider threats\, network intrusions and ransomware\, for the past 6 years\, Sam has been the Regional Cyber Protect officer and a member of the NPCC coordinated UK Cyber Protect police team. \nWorking with the UK Cyber Protect Team and partners such as the National Cyber Security Centre and the growing local cyber security private sector\, Sam engages with local organisations and victims of cyber crime\, raising staff awareness of current threats and providing advice and guidance on how both individuals and organisations can better protect themselves against common attacks. Sam also runs the popular desktop ‘Cyber Escape Room’ developed by the Metropolitan Police Protect Team with organisations across Northern Ireland. \nRobert O’Brien is the Chief Evangelist and founder of MetaCompliance. With 18+ years of experience in the Cyber Security and Compliance market\, MetaCompliance provides an innovative solution for staff information security awareness and incident management automation. The MetaCompliance platform was created to meet customer needs for a single\, comprehensive solution to manage the people risks surrounding Cyber Security\, Data Protection and Compliance. \nNiall O’Doherty is the Project Director at Evide\, a ‘tech for good’ organisation that specialises in digital solutions for frontline organisations to provide evidence of their social value & impact. Niall will share his insights gleaned from navigating a cyber attack ordeal last year.
URL:https://ukc3.co.uk/events/ni-cyber-empowering-small-businesses-navigating-cybersecurity-in-a-digital-era/
LOCATION:Invest Northern Ireland  Strand Road Derry\, Londonderry BT48 7NR\, Invest Northern Ireland Strand Road\, Derry\, Londonderry\, BT48 7NR
CATEGORIES:NI Cyber
ATTACH;FMTTYPE=image/png:https://ukc3.co.uk/wp-content/uploads/2024/02/NI-Cyber-1.png
END:VEVENT
BEGIN:VEVENT
DTSTART;TZID=UTC:20240229T093000
DTEND;TZID=UTC:20240229T103000
DTSTAMP:20260421T135730
CREATED:20240129T163245Z
LAST-MODIFIED:20240129T163245Z
UID:2925-1709199000-1709202600@ukc3.co.uk
SUMMARY:NI Cyber | February Breakfast Club
DESCRIPTION:NI Cyber: February Breakfast Club\nThursday 29th February\, 09:30 am – 10:30 am BST\nNI Cyber back at ECIT for the February Breakfast Club. \nMore information TBD \nAgenda\n0915 Breakfast & chat\n0930 Welcome!\n0935 Updates\, news\, etc.\n0940 Member spotlight\n0945 Guest speaker\n1000 Guest Speaker\n1015 AOB\n1030 Thank you!
URL:https://ukc3.co.uk/events/ni-cyber-february-breakfast-club/
LOCATION:Institute of Electronics Communications & Information Technology Queens Road Belfast BT3 9DT\, Institute of Electronics Communications & Information Technology Queens Road\, Belfast\, BT3 9DT\, United Kingdom
CATEGORIES:NI Cyber
ATTACH;FMTTYPE=image/png:https://ukc3.co.uk/wp-content/uploads/2024/01/NI-Cyber-1.png
END:VEVENT
BEGIN:VEVENT
DTSTART;TZID=UTC:20240125T093000
DTEND;TZID=UTC:20240125T103000
DTSTAMP:20260421T135730
CREATED:20231004T125535Z
LAST-MODIFIED:20231004T125535Z
UID:4051-1706175000-1706178600@ukc3.co.uk
SUMMARY:NI Cyber | January Breakfast Club
DESCRIPTION:NI Cyber: January Breakfast Club\nThursday 25th January\, 09:30 am – 10:30 am BST\nNI Cyber back at ECIT for January Breakfast Club. \nMore information TBD \nAgenda\n0915 Breakfast & chat\n0930 Welcome!\n0935 Updates\, news\, etc.\n0940 Member spotlight\n0945 Guest speaker\n1000 Guest Speaker\n1015 AOB\n1030 Thank you!
URL:https://ukc3.co.uk/events/ni-cyber-january-breakfast-club-2/
LOCATION:Institute of Electronics Communications & Information Technology Queens Road Belfast BT3 9DT\, Institute of Electronics Communications & Information Technology Queens Road\, Belfast\, BT3 9DT\, United Kingdom
CATEGORIES:NI Cyber
ATTACH;FMTTYPE=image/png:https://ukc3.co.uk/wp-content/uploads/2023/10/Ni-Cyber-3.png
END:VEVENT
BEGIN:VEVENT
DTSTART;TZID=UTC:20231130T093000
DTEND;TZID=UTC:20231130T103000
DTSTAMP:20260421T135730
CREATED:20231004T124051Z
LAST-MODIFIED:20231004T124051Z
UID:4049-1701336600-1701340200@ukc3.co.uk
SUMMARY:NI Cyber | November Breakfast Club
DESCRIPTION:NI Cyber: November Breakfast Club\nThursday 30th November\, 09:30 am – 10:30 am BST\nNI Cyber back at ECIT for November Breakfast Club. \nMore information TBD \nAgenda\n0915 Breakfast & chat\n0930 Welcome!\n0935 Updates\, news\, etc.\n0940 Member spotlight\n0945 Guest speaker\n1000 Guest Speaker\n1015 AOB\n1030 Thank you!
URL:https://ukc3.co.uk/events/ni-cyber-november-breakfast-club-2/
LOCATION:Institute of Electronics Communications & Information Technology Queens Road Belfast BT3 9DT\, Institute of Electronics Communications & Information Technology Queens Road\, Belfast\, BT3 9DT\, United Kingdom
CATEGORIES:NI Cyber
ATTACH;FMTTYPE=image/png:https://ukc3.co.uk/wp-content/uploads/2023/10/NI-Cyber-1.png
END:VEVENT
BEGIN:VEVENT
DTSTART;TZID=UTC:20231026T093000
DTEND;TZID=UTC:20231026T103000
DTSTAMP:20260421T135730
CREATED:20231004T124322Z
LAST-MODIFIED:20231004T124849Z
UID:2619-1698312600-1698316200@ukc3.co.uk
SUMMARY:NI Cyber | October Breakfast Club
DESCRIPTION:NI Cyber: October Breakfast Club\nThursday 26th October\, 09:30 am – 10:30 am BST\nNI Cyber back at ECIT for October Breakfast Club. \nMore information TBD \nAgenda\n0915 Breakfast & chat\n0930 Welcome!\n0935 Updates\, news\, etc.\n0940 Member spotlight\n0945 Guest speaker\n1000 Guest Speaker\n1015 AOB\n1030 Thank you!
URL:https://ukc3.co.uk/events/ni-cyber-october-breakfast-club/
LOCATION:Institute of Electronics Communications & Information Technology Queens Road Belfast BT3 9DT\, Institute of Electronics Communications & Information Technology Queens Road\, Belfast\, BT3 9DT\, United Kingdom
CATEGORIES:NI Cyber
ATTACH;FMTTYPE=image/png:https://ukc3.co.uk/wp-content/uploads/2023/10/Ni-Cyber-2.png
END:VEVENT
BEGIN:VEVENT
DTSTART;TZID=UTC:20231017T180000
DTEND;TZID=UTC:20231017T203000
DTSTAMP:20260421T135730
CREATED:20230920T141343Z
LAST-MODIFIED:20230920T141343Z
UID:2537-1697565600-1697574600@ukc3.co.uk
SUMMARY:NI Cyber | Tech & Tipples Autumn Edition
DESCRIPTION:Tech & Tipples Autumn Edition\nTuesday 17th October\, 18:00 – 20:00 BST\nJoin NI Cyber for Tech & Tipples Autumn Edition: an evening of Operational Resilience and IAM Insights\, Networking\, and More!\nAre you passionate about cybersecurity\, or perhaps intrigued by the world of Cyber Resilience and Identity & Access Management (IAM)? We have an exciting evening lined up just for you! \nWhat to Expect: \n1. Panel Discussions: Our expert panelists\, comprising seasoned cybersecurity practitioners and thought leaders\, will engage in dynamic discussions on the latest trends\, challenges\, and best practices in Operational Resilience and IAM. \n2. Networking: Connect with like-minded professionals\, exchange ideas\, and build valuable connections in a relaxed and welcoming atmosphere. \n3. Food and Drinks! \nThis event is tailored not only for cybersecurity professionals but also for individuals from diverse sectors who are curious and enthusiastic about enhancing their understanding of Cyber Resilience and IAM. \nWhether you’re a seasoned practitioner\, an IT enthusiast\, or simply someone eager to learn and network\, this evening promises something for everyone.
URL:https://ukc3.co.uk/events/ni-cyber-tech-tipples-autumn-edition/
LOCATION:KPMG Belfast\, 1 Lanyon Place Belfast BT1 3LP\, 1 Lanyon Place\, Belfast\, BT1 3LP
CATEGORIES:NI Cyber
ATTACH;FMTTYPE=image/png:https://ukc3.co.uk/wp-content/uploads/2023/09/NI-Cyber-1.png
END:VEVENT
END:VCALENDAR