BEGIN:VCALENDAR
VERSION:2.0
PRODID:-//UK Cyber Cluster Collaboration - ECPv6.15.16//NONSGML v1.0//EN
CALSCALE:GREGORIAN
METHOD:PUBLISH
X-ORIGINAL-URL:https://ukc3.co.uk
X-WR-CALDESC:Events for UK Cyber Cluster Collaboration
REFRESH-INTERVAL;VALUE=DURATION:PT1H
X-Robots-Tag:noindex
X-PUBLISHED-TTL:PT1H
BEGIN:VTIMEZONE
TZID:UTC
BEGIN:STANDARD
TZOFFSETFROM:+0000
TZOFFSETTO:+0000
TZNAME:UTC
DTSTART:20240101T000000
END:STANDARD
END:VTIMEZONE
BEGIN:VEVENT
DTSTART;TZID=UTC:20250213T173000
DTEND;TZID=UTC:20250213T203000
DTSTAMP:20260423T085203
CREATED:20250108T170618Z
LAST-MODIFIED:20250108T170618Z
UID:6605-1739467800-1739478600@ukc3.co.uk
SUMMARY:OxCyber Social Event at DewDrop Inn Summertown OX – February 2025
DESCRIPTION:Join us for an evening of networking and great conversations! \nCalling all cybersecurity professionals! Come along to connect\, exchange ideas\, and make new connections in a relaxed and friendly atmosphere. \nWe’ve reserved a cosy spot at the DewDrop Inn in Summertown\, Oxford – no agenda\, no formalities – just engaging discussions and a great time! \nWhen: Thursday\, 13th February \nWhere: DewDrop Inn\, Summertown\, Oxford \nTime: From 5:30 PM \nNo registration required – just drop by! \nTravel Instructions \nHere’s how to get from Oxford Station to the DewDrop Inn using public transport: \n1.⁠ ⁠Start at Oxford Station: Exit the station and head to the bus stops outside. \n2.⁠ ⁠Take Bus Number 14 (JR Hospital). Board the bus at **Stop R4. \n3.⁠ ⁠Ride for approximately 15 minutes (10 stops). Notable stops include:\nPark End Street (Stop D1)\nGeorge Street (Stop B3)\nKeble Road\nLinton Road. \n4.⁠ ⁠Get off at Ferry Pool Road. \n5.⁠ ⁠Walking Directions (from Ferry Pool Road to DewDrop Inn): Head southwest on Marston Ferry Road (B4495) for a short distance. Turn right onto Banbury Road (A4165). Walk approximately 7 minutes (0.3 miles) to reach 258 Banbury Road\, DewDrop Inn. The pub will be on your right-hand side. \nLooking forward to seeing you there!
URL:https://ukc3.co.uk/events/oxcyber-social-event-at-dewdrop-inn-summertown-ox-february-2025/
LOCATION:DewDrop Inn\, Summertown\, Oxford
CATEGORIES:OxCyber
ATTACH;FMTTYPE=image/png:https://ukc3.co.uk/wp-content/uploads/2024/02/OxCyber-1.png
END:VEVENT
BEGIN:VEVENT
DTSTART;TZID=UTC:20250218T120000
DTEND;TZID=UTC:20250218T140000
DTSTAMP:20260423T085203
CREATED:20250203T120730Z
LAST-MODIFIED:20250203T120730Z
UID:6833-1739880000-1739887200@ukc3.co.uk
SUMMARY:Community Engagement Meeting – February 2025
DESCRIPTION:Join OxCyber in the virtual realm via Teams for their monthly meetup\, where expertise\, innovation\, and collaboration converge in the heart of Oxfordshire & the Thames Valley. \nThe Agenda: \nEVENT HOST INTRO: TBA \nSPEAKER A: TO BE CONFIRMED \nOur community is a vibrant hub tackling the ever-evolving challenges of cyber threats. \nYour active participation\, knowledge sharing\, and new connections are the secret sauce that keeps OxCyber dynamic and forward-thinking. \nSave the Date: Tuesday\, 18th February 2025 \nTime: 12pm – 2pm GMT\nWhere: Online via Teams \nRegister here: https://events.teams.microsoft.com/event/732c48aa-70ab-44ed-b3bd-9a51c8d8b35d@158e39a1-001c-44f0-90d6-35872708c845 \nDon’t miss out on this cyber-revolution! Secure your spot\, mark your calendar\, and let’s dive deep into the realm of cybersecurity together. \nThe future is digital\, and OxCyber is leading the way! \nWe look forward to having you attend the event!
URL:https://ukc3.co.uk/events/community-engagement-meeting-february-2025/
LOCATION:Online
CATEGORIES:OxCyber
ATTACH;FMTTYPE=image/png:https://ukc3.co.uk/wp-content/uploads/2024/02/OxCyber-2.png
END:VEVENT
END:VCALENDAR