BEGIN:VCALENDAR
VERSION:2.0
PRODID:-//UK Cyber Cluster Collaboration - ECPv6.15.16//NONSGML v1.0//EN
CALSCALE:GREGORIAN
METHOD:PUBLISH
X-WR-CALNAME:UK Cyber Cluster Collaboration
X-ORIGINAL-URL:https://ukc3.co.uk
X-WR-CALDESC:Events for UK Cyber Cluster Collaboration
REFRESH-INTERVAL;VALUE=DURATION:PT1H
X-Robots-Tag:noindex
X-PUBLISHED-TTL:PT1H
BEGIN:VTIMEZONE
TZID:UTC
BEGIN:STANDARD
TZOFFSETFROM:+0000
TZOFFSETTO:+0000
TZNAME:UTC
DTSTART:20240101T000000
END:STANDARD
END:VTIMEZONE
BEGIN:VEVENT
DTSTART;TZID=UTC:20250612T173000
DTEND;TZID=UTC:20250612T203000
DTSTAMP:20260423T022748
CREATED:20250428T072642Z
LAST-MODIFIED:20250428T072642Z
UID:7857-1749749400-1749760200@ukc3.co.uk
SUMMARY:OxCyber Social Event at DewDrop Inn Summertown OX – June 2025
DESCRIPTION:Join OxCyber for an evening of networking and great conversations! \nCalling all cybersecurity professionals! Come along to connect\, exchange ideas\, and make new connections in a relaxed and friendly atmosphere. \nWe’ve reserved a cosy spot at the DewDrop Inn in Summertown\, Oxford – no agenda\, no formalities – just engaging discussions and a great time! \nWhen: Thursday\, 12th June \nWhere: DewDrop Inn\, Summertown\, Oxford \nTime: From 5:30 PM \nNo registration required – just drop by!
URL:https://ukc3.co.uk/events/oxcyber-social-event-at-dewdrop-inn-summertown-ox-june-2025/
LOCATION:DewDrop Inn\, Summertown\, Oxford
CATEGORIES:OxCyber
ATTACH;FMTTYPE=image/png:https://ukc3.co.uk/wp-content/uploads/2025/04/OxCyber-3.png
END:VEVENT
BEGIN:VEVENT
DTSTART;TZID=UTC:20250617T120000
DTEND;TZID=UTC:20250617T140000
DTSTAMP:20260423T022748
CREATED:20250428T072805Z
LAST-MODIFIED:20250828T082404Z
UID:7859-1750161600-1750168800@ukc3.co.uk
SUMMARY:OxCyber's Community Engagement Meeting – June 2025
DESCRIPTION:Join OxCyber in the virtual realm via Teams for their monthly meetup\, where expertise\, innovation\, and collaboration converge in the heart of Oxfordshire & the Thames Valley. \nThe Agenda: \nEVENT HOST INTRO: TBA \nSPEAKER A: TO BE CONFIRMED \nOur community is a vibrant hub tackling the ever-evolving challenges of cyber threats. \nYour active participation\, knowledge sharing\, and new connections are the secret sauce that keeps OxCyber dynamic and forward-thinking. \nSave the Date: Tuesday\, 17th June 2025 \nTime: 12pm – 2pm GMT\nWhere: Online via Teams \nRegister here: https://events.teams.microsoft.com/event/5e027834-d2bc-4eca-bbbb-a061b3e4bbf3@158e39a1-001c-44f0-90d6-35872708c845 \nDon’t miss out on this cyber-revolution! Secure your spot\, mark your calendar\, and let’s dive deep into the realm of cybersecurity together. \nThe future is digital\, and OxCyber is leading the way! \nWe look forward to having you attend the event!
URL:https://ukc3.co.uk/events/community-engagement-meeting-june-2025/
LOCATION:Online
CATEGORIES:OxCyber
ATTACH;FMTTYPE=image/png:https://ukc3.co.uk/wp-content/uploads/2025/04/OxCyber-1.png
END:VEVENT
END:VCALENDAR