BEGIN:VCALENDAR
VERSION:2.0
PRODID:-//UK Cyber Cluster Collaboration - ECPv6.15.16//NONSGML v1.0//EN
CALSCALE:GREGORIAN
METHOD:PUBLISH
X-ORIGINAL-URL:https://ukc3.co.uk
X-WR-CALDESC:Events for UK Cyber Cluster Collaboration
REFRESH-INTERVAL;VALUE=DURATION:PT1H
X-Robots-Tag:noindex
X-PUBLISHED-TTL:PT1H
BEGIN:VTIMEZONE
TZID:UTC
BEGIN:STANDARD
TZOFFSETFROM:+0000
TZOFFSETTO:+0000
TZNAME:UTC
DTSTART:20230101T000000
END:STANDARD
END:VTIMEZONE
BEGIN:VEVENT
DTSTART;TZID=UTC:20240319T120000
DTEND;TZID=UTC:20240319T140000
DTSTAMP:20260424T031141
CREATED:20240228T160805Z
LAST-MODIFIED:20240228T160805Z
UID:3068-1710849600-1710856800@ukc3.co.uk
SUMMARY:OxCyber | Community Engagement Meeting – March 2024
DESCRIPTION:Community Engagement Meeting – March 2024\nTuesday 19th March\, 12:00 pm – 02:00 pm GMT\nJoin OxCyber in the virtual realm via Teams for OxCyber’s monthly meetup\, where expertise\, innovation\, and collaboration converge in the heart of Oxfordshire & the Thames Valley. \nThe Agenda: Cyber Security Planning: You can’t know where you’re going if you don’t know where you are! \nEVENT HOST INTRO: Dave Stanley \nGUEST SPEAKER: Sandrijn Stead\, CEO of Capametrix and ex-cyber security specialist \nThe Oxcyber community is a vibrant hub tackling the ever-evolving challenges of cyber threats. \nYour active participation\, knowledge sharing\, and new connections are the secret sauce that keeps OxCyber dynamic and forward-thinking.
URL:https://ukc3.co.uk/events/oxcyber-community-engagement-meeting-march-2024/
LOCATION:Online
CATEGORIES:OxCyber
ATTACH;FMTTYPE=image/png:https://ukc3.co.uk/wp-content/uploads/2024/02/OxCyber-2.png
END:VEVENT
END:VCALENDAR