BEGIN:VCALENDAR
VERSION:2.0
PRODID:-//UK Cyber Cluster Collaboration - ECPv6.15.16//NONSGML v1.0//EN
CALSCALE:GREGORIAN
METHOD:PUBLISH
X-ORIGINAL-URL:https://ukc3.co.uk
X-WR-CALDESC:Events for UK Cyber Cluster Collaboration
REFRESH-INTERVAL;VALUE=DURATION:PT1H
X-Robots-Tag:noindex
X-PUBLISHED-TTL:PT1H
BEGIN:VTIMEZONE
TZID:UTC
BEGIN:STANDARD
TZOFFSETFROM:+0000
TZOFFSETTO:+0000
TZNAME:UTC
DTSTART:20240101T000000
END:STANDARD
END:VTIMEZONE
BEGIN:VEVENT
DTSTART;TZID=UTC:20250130T120000
DTEND;TZID=UTC:20250130T140000
DTSTAMP:20260423T101357
CREATED:20250108T170436Z
LAST-MODIFIED:20250108T170436Z
UID:6603-1738238400-1738245600@ukc3.co.uk
SUMMARY:Community Engagement Meeting – Threats & Tradeoffs
DESCRIPTION:Join Us for an Exclusive event: Threats & Tradeoffs \nExplore the critical balance between innovation and cybersecurity in this insightful session. Our expert speakers\, Dr Joanna Syrda and Dr Oishee Kundu\, will unpack emerging threats and share practical strategies to navigate the tradeoffs organisations face nowadays. \nThis is a must-attend event for anyone looking to enhance resilience while embracing innovation! \nEVENT HOST: Rebecca Keen \nSPEAKER A: Dr Joanna Syrda \nSPEAKER B: Dr Oishee Kundu \nSave the Date: Thursday\, 30th January 2025\nTime: 12pm – 2pm GMT\nWhere: Online via Teams\nRegister here: https://events.teams.microsoft.com/event/f8ede34b-0716-455f-8158-939485cbfbf5@158e39a1-001c-44f0-90d6-35872708c845 \nDon’t miss out on this chance to learn from an expert and stay ahead in your career. Register now to reserve your spot! \nThe future is digital\, and OxCyber is leading the way!
URL:https://ukc3.co.uk/events/community-engagement-meeting-threats-tradeoffs/
LOCATION:Online
CATEGORIES:OxCyber
ATTACH;FMTTYPE=image/png:https://ukc3.co.uk/wp-content/uploads/2024/02/OxCyber-1.png
END:VEVENT
END:VCALENDAR