BEGIN:VCALENDAR
VERSION:2.0
PRODID:-//UK Cyber Cluster Collaboration - ECPv6.15.16//NONSGML v1.0//EN
CALSCALE:GREGORIAN
METHOD:PUBLISH
X-ORIGINAL-URL:https://ukc3.co.uk
X-WR-CALDESC:Events for UK Cyber Cluster Collaboration
REFRESH-INTERVAL;VALUE=DURATION:PT1H
X-Robots-Tag:noindex
X-PUBLISHED-TTL:PT1H
BEGIN:VTIMEZONE
TZID:UTC
BEGIN:STANDARD
TZOFFSETFROM:+0000
TZOFFSETTO:+0000
TZNAME:UTC
DTSTART:20240101T000000
END:STANDARD
END:VTIMEZONE
BEGIN:VEVENT
DTSTART;TZID=UTC:20250325T120000
DTEND;TZID=UTC:20250325T140000
DTSTAMP:20260423T085912
CREATED:20250305T115715Z
LAST-MODIFIED:20250305T115715Z
UID:7179-1742904000-1742911200@ukc3.co.uk
SUMMARY:Community Engagement Meeting – March 2025
DESCRIPTION:Join OxCyber in the virtual realm via Teams for their monthly meetup\, where expertise\, innovation\, and collaboration converge in the heart of Oxfordshire & the Thames Valley. \nThe Agenda:ox \nEVENT HOST INTRO: TBA \nSPEAKER A: TO BE CONFIRMED \nOur community is a vibrant hub tackling the ever-evolving challenges of cyber threats. \nYour active participation\, knowledge sharing\, and new connections are the secret sauce that keeps OxCyber dynamic and forward-thinking. \nSave the Date: Tuesday\, 25th March 2025 \nTime: 12pm – 2pm GMT\nWhere: Online via Teams \nRegister here: https://events.teams.microsoft.com/event/e54d2891-837c-4111-913d-d68c2da8a1bd@158e39a1-001c-44f0-90d6-35872708c845 \nDon’t miss out on this cyber-revolution! Secure your spot\, mark your calendar\, and let’s dive deep into the realm of cybersecurity together. \nThe future is digital\, and OxCyber is leading the way! \nWe look forward to having you attend the event!
URL:https://ukc3.co.uk/events/community-engagement-meeting-march-2025/
LOCATION:Online
CATEGORIES:OxCyber
ATTACH;FMTTYPE=image/png:https://ukc3.co.uk/wp-content/uploads/2024/02/OxCyber-2.png
END:VEVENT
END:VCALENDAR