BEGIN:VCALENDAR
VERSION:2.0
PRODID:-//UK Cyber Cluster Collaboration - ECPv6.15.16//NONSGML v1.0//EN
CALSCALE:GREGORIAN
METHOD:PUBLISH
X-ORIGINAL-URL:https://ukc3.co.uk
X-WR-CALDESC:Events for UK Cyber Cluster Collaboration
REFRESH-INTERVAL;VALUE=DURATION:PT1H
X-Robots-Tag:noindex
X-PUBLISHED-TTL:PT1H
BEGIN:VTIMEZONE
TZID:UTC
BEGIN:STANDARD
TZOFFSETFROM:+0000
TZOFFSETTO:+0000
TZNAME:UTC
DTSTART:20240101T000000
END:STANDARD
END:VTIMEZONE
BEGIN:VEVENT
DTSTART;TZID=UTC:20250410T173000
DTEND;TZID=UTC:20250410T203000
DTSTAMP:20260423T070824
CREATED:20250402T124157Z
LAST-MODIFIED:20250402T124157Z
UID:7626-1744306200-1744317000@ukc3.co.uk
SUMMARY:OxCyber Social Event at DewDrop Inn Summertown OX – April 2025
DESCRIPTION:Join us for an evening of networking and great conversations! \nCalling all cybersecurity professionals! Come along to connect\, exchange ideas\, and make new connections in a relaxed and friendly atmosphere. \nWe’ve reserved a cosy spot at the DewDrop Inn in Summertown\, Oxford – no agenda\, no formalities – just engaging discussions and a great time! \nWhen: Thursday\, 10th April \nWhere: DewDrop Inn\, Summertown\, Oxford \nTime: From 5:30 PM \nNo registration required – just drop by!
URL:https://ukc3.co.uk/events/oxcyber-social-event-at-dewdrop-inn-summertown-ox-april-2025/
LOCATION:DewDrop Inn\, Summertown\, Oxford
CATEGORIES:OxCyber
ATTACH;FMTTYPE=image/png:https://ukc3.co.uk/wp-content/uploads/2025/04/OxCyber-3.png
END:VEVENT
END:VCALENDAR