BEGIN:VCALENDAR
VERSION:2.0
PRODID:-//UK Cyber Cluster Collaboration - ECPv6.15.16//NONSGML v1.0//EN
CALSCALE:GREGORIAN
METHOD:PUBLISH
X-ORIGINAL-URL:https://ukc3.co.uk
X-WR-CALDESC:Events for UK Cyber Cluster Collaboration
REFRESH-INTERVAL;VALUE=DURATION:PT1H
X-Robots-Tag:noindex
X-PUBLISHED-TTL:PT1H
BEGIN:VTIMEZONE
TZID:UTC
BEGIN:STANDARD
TZOFFSETFROM:+0000
TZOFFSETTO:+0000
TZNAME:UTC
DTSTART:20240101T000000
END:STANDARD
END:VTIMEZONE
BEGIN:VEVENT
DTSTART;TZID=UTC:20250729T120000
DTEND;TZID=UTC:20250729T140000
DTSTAMP:20260423T004012
CREATED:20250714T092448Z
LAST-MODIFIED:20250828T081256Z
UID:8551-1753790400-1753797600@ukc3.co.uk
SUMMARY:OxCyber's Community Engagement Meeting - GenAI: The Perspective of a Paranoid Security Person
DESCRIPTION:Join OxCyber’s Monthly Community Engagement Meeting on Tuesday\, 29th July\, where we’ll be diving into the world of GenAI and cybersecurity. \nGuest Speaker: Troy Cunningham \nWhether you work in cybersecurity\, tech strategy\, or AI development\, this session will help cut through the noise and focus on what really matters for security professionals. \nDon’t miss out on this cyber-revolution! Secure your spot\, mark your calendar\, and let’s dive deep into the realm of cybersecurity together. \nThe future is digital\, and OxCyber is leading the way!
URL:https://ukc3.co.uk/events/community-engagement-meeting-a-brief-introduction-to-genai-the-perspective-of-a-paranoid-security-person/
CATEGORIES:OxCyber
END:VEVENT
END:VCALENDAR