BEGIN:VCALENDAR
VERSION:2.0
PRODID:-//UK Cyber Cluster Collaboration - ECPv6.15.16//NONSGML v1.0//EN
CALSCALE:GREGORIAN
METHOD:PUBLISH
X-WR-CALNAME:UK Cyber Cluster Collaboration
X-ORIGINAL-URL:https://ukc3.co.uk
X-WR-CALDESC:Events for UK Cyber Cluster Collaboration
REFRESH-INTERVAL;VALUE=DURATION:PT1H
X-Robots-Tag:noindex
X-PUBLISHED-TTL:PT1H
BEGIN:VTIMEZONE
TZID:UTC
BEGIN:STANDARD
TZOFFSETFROM:+0000
TZOFFSETTO:+0000
TZNAME:UTC
DTSTART:20240101T000000
END:STANDARD
END:VTIMEZONE
BEGIN:VEVENT
DTSTART;TZID=UTC:20251113T173000
DTEND;TZID=UTC:20251113T203000
DTSTAMP:20260422T200812
CREATED:20251027T140310Z
LAST-MODIFIED:20251027T140310Z
UID:10817-1763055000-1763065800@ukc3.co.uk
SUMMARY:OxCyber: Social Event at DewDrop Inn Summertown
DESCRIPTION:Join OxCyber for an evening of networking and great conversations! \nCalling all cybersecurity professionals! Come along to connect\, exchange ideas\, and make new connections in a relaxed and friendly atmosphere. \nA cosy spot has been reserved at the DewDrop Inn in Summertown\, Oxford – no agenda\, no formalities – just engaging discussions and a great time!
URL:https://ukc3.co.uk/events/oxcyber-social-event-at-dewdrop-inn-summertown/
CATEGORIES:OxCyber
ATTACH;FMTTYPE=image/png:https://ukc3.co.uk/wp-content/uploads/2025/04/OxCyber-3.png
END:VEVENT
END:VCALENDAR