BEGIN:VCALENDAR
VERSION:2.0
PRODID:-//UK Cyber Cluster Collaboration - ECPv6.15.16//NONSGML v1.0//EN
CALSCALE:GREGORIAN
METHOD:PUBLISH
X-WR-CALNAME:UK Cyber Cluster Collaboration
X-ORIGINAL-URL:https://ukc3.co.uk
X-WR-CALDESC:Events for UK Cyber Cluster Collaboration
REFRESH-INTERVAL;VALUE=DURATION:PT1H
X-Robots-Tag:noindex
X-PUBLISHED-TTL:PT1H
BEGIN:VTIMEZONE
TZID:UTC
BEGIN:STANDARD
TZOFFSETFROM:+0000
TZOFFSETTO:+0000
TZNAME:UTC
DTSTART:20240101T000000
END:STANDARD
END:VTIMEZONE
BEGIN:VEVENT
DTSTART;TZID=UTC:20250911T173000
DTEND;TZID=UTC:20250911T203000
DTSTAMP:20260423T103718
CREATED:20250731T140144Z
LAST-MODIFIED:20250822T081014Z
UID:8660-1757611800-1757622600@ukc3.co.uk
SUMMARY:OxCyber Social Event in Abingdon
DESCRIPTION:Join OxCyber for an evening of networking and great conversations! \nCalling all cybersecurity professionals! Come along to connect\, exchange ideas\, and make new connections in a relaxed and friendly atmosphere. \nWe’ve reserved a cosy spot at the Nag’s Head on the Thames\, Abingdon; no agenda\, no formalities\, just engaging discussions and a great time! \nWhen: Thursday\, 11th September \nWhere: Nag’s Head on the Thames\, Abingdon \nTime: From 5:30 PM \nNo registration required – just drop by! \nDirections to the Nag’s Head on the Thames\, Abingdon \nBy Car: \n1. From Oxford City Centre: \n\nHead south from Oxford City Centre\, via St Aldate’s/A415.\nContinue on the A415 towards Abingdon.\nFollow signs for Abingdon town centre.\nThe Nags Head will be on The Bridge in Abingdon.\nThe journey is approximately 6.7 miles and should take about 16 minutes.\n\n2. Parking: \n• Parking available nearby. \nBy Bus: \n\nHead to High Street (Stop L2) in Oxford City Centre.\nTake the X3 bus towards Abingdon Town Centre\, High Street.\nThe bus journey takes approximately 33 minutes and has 17 stops.\nGet off the bus at High Street (Stop A7) in Abingdon.\nFrom there\, walk east on High St/A415 toward Market Place.\nContinue to follow A415.\nThe Nags Head will be on the left.\n\nLooking forward to seeing you there!
URL:https://ukc3.co.uk/events/oxcyber-social-event/
LOCATION:The Nag’s Head\, Abingdon\, United Kingdom
CATEGORIES:OxCyber
ATTACH;FMTTYPE=image/png:https://ukc3.co.uk/wp-content/uploads/2025/04/OxCyber-3.png
END:VEVENT
BEGIN:VEVENT
DTSTART;TZID=UTC:20250916T120000
DTEND;TZID=UTC:20250916T140000
DTSTAMP:20260423T103718
CREATED:20250731T140516Z
LAST-MODIFIED:20250827T124117Z
UID:8663-1758024000-1758031200@ukc3.co.uk
SUMMARY:OxCyber - Community Engagement Meeting
DESCRIPTION:Join us in the virtual realm via Teams for OxCyber’s monthly meetup\, where expertise\, innovation\, and collaboration converge in the heart of Oxfordshire & the Thames Valley. \nThe Agenda: \nEVENT HOST INTRO: TBA \nSPEAKER A: TO BE CONFIRMED \nOur community is a vibrant hub tackling the ever-evolving challenges of cyber threats. \nYour active participation\, knowledge sharing\, and new connections are the secret sauce that keeps OxCyber dynamic and forward-thinking. \nSave the Date: Tuesday\, 16th September 2025 \nTime: 12pm – 2pm GMT\nWhere: Online via Teams \nRegister here: https://events.teams.microsoft.com/event/89d0f50d-6c79-458b-8a22-c37ae3b5af00@158e39a1-001c-44f0-90d6-35872708c845
URL:https://ukc3.co.uk/events/community-engagement-meeting/
CATEGORIES:OxCyber
ATTACH;FMTTYPE=image/png:https://ukc3.co.uk/wp-content/uploads/2025/04/OxCyber-3.png
END:VEVENT
BEGIN:VEVENT
DTSTART;TZID=UTC:20250918T170000
DTEND;TZID=UTC:20250918T220000
DTSTAMP:20260423T103718
CREATED:20250815T084652Z
LAST-MODIFIED:20250815T084916Z
UID:8798-1758214800-1758232800@ukc3.co.uk
SUMMARY:OxCyber Social Event in Milton Keynes
DESCRIPTION:Join OxCyber for an evening of relaxed networking\, conversation\, and connection with the local cyber and tech community. \nOxCyber Socials are designed to bring together cybersecurity professionals\, tech enthusiasts\, educators\, and curious minds in an informal\, friendly setting. There are no presentations and no sales pitches just great discussions\, new connections\, and a space to share ideas. \nA dedicated space has been reserved at Be at One in Milton Keynes. Whether you’re a regular in the community or attending for the first time\, you’re warmly invited to drop in and say hello. \nNo registration required — just turn up. \nThis event is proudly hosted by OxCyber Ambassadors Burak Karacali and Shelley Booker. \nOxCyber Social – Milton Keynes\nDate: Thursday\, 18 September 2025\nTime: From 5:30 PM onwards\nVenue: Be At One\, 25 Mortimer Square\, Milton Keynes\, MK9 2FB \nHow to Get There – From Milton Keynes City Centre (Oldbrook)\nBy Car:\nFrom Milton Keynes City Centre (Oldbrook): Route: Head northeast from Johnston Place and join Acorn Walk (restricted access). Continue: Follow Acorn Walk\, then turn right and left to reach Secklow Gate. Turn Left: Onto Silbury Boulevard and drive for around 0.5 miles. Final Turns: Left onto Upper Fifth Street\, then straight ahead to Cresswell Lane. Destination: Be At One will be on your left at 25 Mortimer Square\, MK9 2FB. \nParking: • There are several car parks in the area. \nBy Bicycle:\nRoute: From Oldbrook\, head southeast and turn onto Saxon Gate. Continue: Join Midsummer Boulevard via National Cycle Route 51. Final Turns: Left onto Cresswell Lane\, then right to continue. Destination: Be At One will be on your left. Distance & Time: Approximately 0.8 miles\, taking 6–8 minutes.\nBy Foot:\nRoute: Walk northwest from Johnston Place to Silbury Boulevard. Continue: Turn right\, then left and continue along Silbury Boulevard. Final Stretch: Turn right onto Cresswell Lane\, then left and right again. Destination: Be At One is on the left. Walk Time: About 8–10 minutes.
URL:https://ukc3.co.uk/events/oxcyber-social-event-in-milton-keynes-september-2025/
CATEGORIES:OxCyber
ATTACH;FMTTYPE=image/png:https://ukc3.co.uk/wp-content/uploads/2025/04/OxCyber-2.png
END:VEVENT
BEGIN:VEVENT
DTSTART;TZID=UTC:20251009T173000
DTEND;TZID=UTC:20251009T203000
DTSTAMP:20260423T103718
CREATED:20251002T145051Z
LAST-MODIFIED:20251002T145051Z
UID:9229-1760031000-1760041800@ukc3.co.uk
SUMMARY:OxCyber - Social Event at The Marsh Harrier
DESCRIPTION:Join OxCyber for an evening of networking\, real conversations\, and cyber community spirit! \nCalling all cybersecurity professionals\, tech enthusiasts\, founders\, students\, and curious minds. \nOxCyber has reserved a cosy spot at The Marsh Harrier on Marsh Road (OX4 2HH)\, just off Cowley Road. \nOn-site parking available as you enter Marsh Road \nThe Number 5 bus connects directly from Oxford Rail Station \nThere’s no agenda and no registration required just drop in\, say hello\, and enjoy some great chat with great people. \nNo slides. Just genuine connection. \nDirections to The Marsh Harrier: \nBy Car: \nFrom Oxford City Centre\, the journey takes around 12–24 minutes depending on traffic. Take Abingdon Road (A4144)\, then continue along the B4495 and A4158. Once on Cowley Road\, turn right onto Marsh Road and you’ll find The Marsh Harrier at number 40. There’s a free car park available just as you enter Marsh Road from Cowley Road. \nBy Bus: \nFrom the city centre\, head to St Aldates (Stop G4) and catch the Number 10 bus heading towards Cowley & JR Hospital. The journey takes approximately 14 minutes\, with Marsh Road as your stop. From there\, it’s a short 3-minute walk (about 0.2 miles) to The Marsh Harrier. Buses run regularly\, making this an easy and eco-friendly option. \nBy Bicycle: \nCycling from the City Centre takes around 15–20 minutes. Head east along High Street (A420)\, continue through The Plain\, then follow Cowley Road (B480). Turn left onto Bartlemas Close and join National Cycle Route 57 via Barracks Lane. Continue until you reach Marsh Road\, where The Marsh Harrier is located on the left-hand side.
URL:https://ukc3.co.uk/events/oxcyber-social-event-at-the-marsh-harrier/
LOCATION:The Marsh Harrier\, Marsh Road\, Oxford\, OX4 2HH\, United Kingdom
CATEGORIES:OxCyber
ATTACH;FMTTYPE=image/png:https://ukc3.co.uk/wp-content/uploads/2025/04/OxCyber-1.png
END:VEVENT
BEGIN:VEVENT
DTSTART;TZID=UTC:20251015T180000
DTEND;TZID=UTC:20251015T200000
DTSTAMP:20260423T103718
CREATED:20251002T145612Z
LAST-MODIFIED:20251002T145655Z
UID:9233-1760551200-1760558400@ukc3.co.uk
SUMMARY:OxCyber: Securing the Future: Exploring Quantum\, Cyber and Security Innovation
DESCRIPTION:Join Oxfordshire’s Regional Defence and Security Cluster (OBC-RDSC)\, and Cybersecurity Cluster (OxCyber CIC) for a joint panel discussion on the evolving intersection of quantum\, cyber\, defence and national security industries. \nQuantum technologies — spanning secure communications\, advanced sensing\, and computing — are rapidly moving from research to real-world impact and quantum technology is quickly becoming central to global security. \nThe expert panel will introduce the foundations of quantum technology before exploring: \nCyber–quantum threats: What are the risks to encryption\, communications\, and critical systems? \nDual-use opportunities: What are the opportunities quantum technologies offer for national security\, defence\, secure infrastructure\, and civilian applications in the UK? \nSkills & talent: How can we build the workforces needed in the security\, cyber and growing quantum industries to fully realise these opportunities? \nRegional leadership: What is Oxfordshire’s role through the Q-Ci3 Hub and the NQCC at Harwell\, alongside clusters such as OxCyber and OBC-RDSC in the coming years? \nThe 40-minute discussion will be followed by a networking reception to connect researchers\, SMEs\, and practitioners shaping this emerging domain. \nRegister here: https://www.eventbrite.co.uk/e/securing-the-future-exploring-quantum-cyber-and-security-innovation-tickets-1658662035799?aff=oddtdtcreator
URL:https://ukc3.co.uk/events/oxcyber-securing-the-future-exploring-quantum-cyber-and-security-innovation-2/
LOCATION:Cohen Quad\, Walton Street\, Oxford\, OX1 2HG
CATEGORIES:OxCyber
ATTACH;FMTTYPE=image/png:https://ukc3.co.uk/wp-content/uploads/2025/04/OxCyber-2.png
END:VEVENT
BEGIN:VEVENT
DTSTART;TZID=UTC:20251016T173000
DTEND;TZID=UTC:20251016T203000
DTSTAMP:20260423T103718
CREATED:20251002T150349Z
LAST-MODIFIED:20251002T150349Z
UID:9235-1760635800-1760646600@ukc3.co.uk
SUMMARY:OxCyber: Social Event in Milton Keynes
DESCRIPTION:Join OxCyber for an evening of relaxed networking\, conversation\, and connection with the local cyber and tech community. \nOxCyber Socials are designed to bring together cybersecurity professionals\, tech enthusiasts\, educators\, and curious minds in an informal\, friendly setting. There are no presentations and no sales pitches just great discussions\, new connections\, and a space to share ideas. \nA dedicated space at Be at One in Milton Keynes has been reserved. Whether you’re a regular in the community or attending for the first time\, you’re warmly invited to drop in and say hello. \nNo registration required — just turn up. \nThis event is proudly hosted by OxCyber Ambassadors Burak Karacali and Shelley Booker. \nHow to Get There – From Milton Keynes City Centre (Oldbrook)\nBy Car:\nFrom Milton Keynes City Centre (Oldbrook): Route: Head northeast from Johnston Place and join Acorn Walk (restricted access). Continue: Follow Acorn Walk\, then turn right and left to reach Secklow Gate. Turn Left: Onto Silbury Boulevard and drive for around 0.5 miles. Final Turns: Left onto Upper Fifth Street\, then straight ahead to Cresswell Lane. Destination: Be At One will be on your left at 25 Mortimer Square\, MK9 2FB. \nParking: • There are several car parks in the area. \nBy Bicycle:\nRoute: From Oldbrook\, head southeast and turn onto Saxon Gate. Continue: Join Midsummer Boulevard via National Cycle Route 51. Final Turns: Left onto Cresswell Lane\, then right to continue. Destination: Be At One will be on your left. Distance & Time: Approximately 0.8 miles\, taking 6–8 minutes.\nBy Foot:\nRoute: Walk northwest from Johnston Place to Silbury Boulevard. Continue: Turn right\, then left and continue along Silbury Boulevard. Final Stretch: Turn right onto Cresswell Lane\, then left and right again. Destination: Be At One is on the left. Walk Time: About 8–10 minutes.
URL:https://ukc3.co.uk/events/oxcyber-social-event-in-milton-keynes/
LOCATION:Be at One\, Be at One\, Mortimer Square\, Milton Keynes\, MK9 2FB\, United Kingdom
CATEGORIES:OxCyber
ATTACH;FMTTYPE=image/png:https://ukc3.co.uk/wp-content/uploads/2025/04/OxCyber-1.png
END:VEVENT
BEGIN:VEVENT
DTSTART;TZID=UTC:20251021T120000
DTEND;TZID=UTC:20251021T140000
DTSTAMP:20260423T103718
CREATED:20251002T150747Z
LAST-MODIFIED:20251002T150820Z
UID:9240-1761048000-1761055200@ukc3.co.uk
SUMMARY:OxCyber: Community Engagement Meeting
DESCRIPTION:Join OxCyber in the virtual realm via Teams for a monthly meetup\, where expertise\, innovation\, and collaboration converge in the heart of Oxfordshire & the Thames Valley. \nThe Agenda: \nEVENT HOST INTRO: TBA \nSPEAKER A: TO BE CONFIRMED \nThe OxCyber community is a vibrant hub tackling the ever-evolving challenges of cyber threats. \nRegister here: https://events.teams.microsoft.com/event/4095bd54-4718-4c3d-a5b3-15c67944bedd@158e39a1-001c-44f0-90d6-35872708c845
URL:https://ukc3.co.uk/events/oxcyber-community-engagement-meeting/
CATEGORIES:OxCyber
ATTACH;FMTTYPE=image/png:https://ukc3.co.uk/wp-content/uploads/2025/04/OxCyber-1.png
END:VEVENT
BEGIN:VEVENT
DTSTART;TZID=UTC:20251105T173000
DTEND;TZID=UTC:20251105T210000
DTSTAMP:20260423T103718
CREATED:20251002T151124Z
LAST-MODIFIED:20251030T112300Z
UID:9242-1762363800-1762376400@ukc3.co.uk
SUMMARY:OxCyber: Social – Berks Cyber Event
DESCRIPTION:Join OxCyber for a relaxed evening of networking\, conversation\, and community! \nWhether you’re a cybersecurity professional\, just starting out in the field\, or simply curious about cyber\, this is the perfect opportunity to connect with others in the Thames Valley tech scene. \nHosted by the brilliant Nikki Webb\, this monthly social is all about informal chats\, shared ideas\, and building strong local connections. \nThe Oakford Social Club has been reserved; no talks\, no slides\, just friendly faces and good conversation. \nNo registration needed – just show up and say hello!
URL:https://ukc3.co.uk/events/oxcyber-social-berks-cyber-event/
LOCATION:Oakford Social Club\, 53 Blagrave St\, Reading\, RG1 1PZ\, United Kingdom
CATEGORIES:OxCyber
ATTACH;FMTTYPE=image/png:https://ukc3.co.uk/wp-content/uploads/2025/04/OxCyber-2.png
END:VEVENT
BEGIN:VEVENT
DTSTART;TZID=UTC:20251113T173000
DTEND;TZID=UTC:20251113T203000
DTSTAMP:20260423T103718
CREATED:20251027T140310Z
LAST-MODIFIED:20251027T140310Z
UID:10817-1763055000-1763065800@ukc3.co.uk
SUMMARY:OxCyber: Social Event at DewDrop Inn Summertown
DESCRIPTION:Join OxCyber for an evening of networking and great conversations! \nCalling all cybersecurity professionals! Come along to connect\, exchange ideas\, and make new connections in a relaxed and friendly atmosphere. \nA cosy spot has been reserved at the DewDrop Inn in Summertown\, Oxford – no agenda\, no formalities – just engaging discussions and a great time!
URL:https://ukc3.co.uk/events/oxcyber-social-event-at-dewdrop-inn-summertown/
CATEGORIES:OxCyber
ATTACH;FMTTYPE=image/png:https://ukc3.co.uk/wp-content/uploads/2025/04/OxCyber-3.png
END:VEVENT
BEGIN:VEVENT
DTSTART;TZID=UTC:20251118T120000
DTEND;TZID=UTC:20251118T140000
DTSTAMP:20260423T103718
CREATED:20251027T141137Z
LAST-MODIFIED:20251027T141137Z
UID:10820-1763467200-1763474400@ukc3.co.uk
SUMMARY:OxCyber: Community Engagement on Teams
DESCRIPTION:Join OxCyber’s monthly meetup\, where expertise\, innovation\, and collaboration converge in the heart of Oxfordshire & the Thames Valley. \nThe Agenda: \nEVENT HOST INTRO: TBA \nSPEAKER A: TO BE CONFIRMED \nThe community is a vibrant hub tackling the ever-evolving challenges of cyber threats. \nYour active participation\, knowledge sharing\, and new connections are the secret sauce that keeps OxCyber dynamic and forward-thinking. \nDon’t miss out on this cyber-revolution! Secure your spot\, mark your calendar\, and let’s dive deep into the realm of cybersecurity together.
URL:https://ukc3.co.uk/events/oxcyber-community-engagement-on-teams/
CATEGORIES:OxCyber
ATTACH;FMTTYPE=image/png:https://ukc3.co.uk/wp-content/uploads/2025/04/OxCyber-3.png
END:VEVENT
BEGIN:VEVENT
DTSTART;TZID=UTC:20251120T173000
DTEND;TZID=UTC:20251120T203000
DTSTAMP:20260423T103718
CREATED:20251027T141853Z
LAST-MODIFIED:20251027T142124Z
UID:10826-1763659800-1763670600@ukc3.co.uk
SUMMARY:OxCyber: Social Event in Milton Keynes
DESCRIPTION:The OxCyber Socials are designed to bring together cybersecurity professionals\, tech enthusiasts\, educators\, and curious minds in an informal\, friendly setting. There are no presentations and no sales pitches just great discussions\, new connections\, and a space to share ideas. \nA dedicated space has been reserved at All Bar One in Milton Keynes. Whether you’re a regular in the community or attending for the first time\, you’re warmly invited to drop in and say hello. \nNo registration required — just turn up. \nThis event is proudly hosted by OxCyber Ambassadors Burak Karacali and Shelley Booker.
URL:https://ukc3.co.uk/events/oxcyber-social-event-in-milton-keynes-2/
LOCATION:All Bar One\, Midsummer Boulevard\, Milton Keynes\, MK9 2EA\, United Kingdom
CATEGORIES:OxCyber
ATTACH;FMTTYPE=image/png:https://ukc3.co.uk/wp-content/uploads/2025/04/OxCyber-3.png
END:VEVENT
BEGIN:VEVENT
DTSTART;TZID=UTC:20251203T173000
DTEND;TZID=UTC:20251203T213000
DTSTAMP:20260423T103718
CREATED:20251027T145722Z
LAST-MODIFIED:20251027T145753Z
UID:10831-1764783000-1764797400@ukc3.co.uk
SUMMARY:OxCyber Social – Berks Cyber Event
DESCRIPTION:Whether you’re a cybersecurity professional\, just starting out in the field\, or simply curious about cyber\, this is the perfect opportunity to connect with others in the Thames Valley tech scene. \nHosted by the brilliant Nikki Webb\, this monthly social is all about informal chats\, shared ideas\, and building strong local connections. \nA cosy area has been reserved at the Oakford Social Club; no talks\, no slides\, just friendly faces and good conversation. \nNo registration needed – just show up and say hello!
URL:https://ukc3.co.uk/events/oxcyber-social-berks-cyber-event-2/
LOCATION:Oakford Social Club\, 53 Blagrave St\, Reading\, RG1 1PZ\, United Kingdom
CATEGORIES:OxCyber
ATTACH;FMTTYPE=image/png:https://ukc3.co.uk/wp-content/uploads/2025/04/OxCyber-3.png
END:VEVENT
BEGIN:VEVENT
DTSTART;TZID=UTC:20251210T180000
DTEND;TZID=UTC:20251210T220000
DTSTAMP:20260423T103718
CREATED:20251114T155248Z
LAST-MODIFIED:20251114T155248Z
UID:12716-1765389600-1765404000@ukc3.co.uk
SUMMARY:OxCyber: Christmas Party 2025
DESCRIPTION:Join OxCyber for a festive evening of networking\, games\, and celebration as they wrap up another fantastic year for the Thames Valley cyber community! \nThis year’s OxCyber Christmas Party will take place in The Gin Room at Slug & Lettuce\, a cosy venue perfect for connecting\, relaxing\, and enjoying some well-deserved downtime. \nCyber Cluedo will be played and there will be a few extra festive surprises and prizes to keep the fun going. It’s a great way to meet others from across the region’s cyber\, tech\, academia\, and business communities\, all in a relaxed\, social setting. \nWhen: Wednesday 10 December\nWhere: The Gin Room\, Slug & Lettuce\n⏰ Time: From 6:00 PM to 10:00 PM \nMembers: Free entry\n️Non-members: £10 \nNot yet an OxCyber member? It’s free to join\, and you’ll get access to events\, resources\, and our thriving cyber community. \nRegister here to become a member.
URL:https://ukc3.co.uk/events/oxcyber-christmas-party-2025/
LOCATION:The Gin Room\, Slug & Lettuce\, 1 Oxford Castle\, Oxford\, OX1 1AY
CATEGORIES:OxCyber
ATTACH;FMTTYPE=image/png:https://ukc3.co.uk/wp-content/uploads/2025/04/OxCyber-3.png
END:VEVENT
BEGIN:VEVENT
DTSTART;TZID=UTC:20251211T173000
DTEND;TZID=UTC:20251211T210000
DTSTAMP:20260423T103718
CREATED:20251030T102731Z
LAST-MODIFIED:20251030T102731Z
UID:11465-1765474200-1765486800@ukc3.co.uk
SUMMARY:OxCyber Social Event at DewDrop Inn Summertown
DESCRIPTION:OxCyber is hosting an evening of networking and great conversations! \nCalling all cybersecurity professionals! Come along to connect\, exchange ideas\, and make new connections in a relaxed and friendly atmosphere. \nThe event will be hosted at the DewDrop Inn in Summertown\, Oxford – no agenda\, no formalities – just engaging discussions and a great time! \nNo registration required – just drop by!
URL:https://ukc3.co.uk/events/oxcyber-social-event-at-dewdrop-inn-summertown-2/
LOCATION:DewDrop Inn\, Summertown\, Oxford
CATEGORIES:OxCyber
ATTACH;FMTTYPE=image/png:https://ukc3.co.uk/wp-content/uploads/2025/04/OxCyber-3.png
END:VEVENT
BEGIN:VEVENT
DTSTART;TZID=UTC:20251216T120000
DTEND;TZID=UTC:20251216T140000
DTSTAMP:20260423T103718
CREATED:20251114T155655Z
LAST-MODIFIED:20251117T093511Z
UID:12720-1765886400-1765893600@ukc3.co.uk
SUMMARY:OxCyber: Community Engagement Meeting in December
DESCRIPTION:Join OxCyber in the virtual realm via Teams for OxCyber’s monthly meetup\, where expertise\, innovation\, and collaboration converge in the heart of Oxfordshire & the Thames Valley. \nThe Agenda: \nEVENT HOST INTRO: TBA \nSPEAKER A: TO BE CONFIRMED \nThe OxCyber community is a vibrant hub tackling the ever-evolving challenges of cyber threats. \nYour active participation\, knowledge sharing\, and new connections are the secret sauce that keeps OxCyber dynamic and forward-thinking. \nThe event will take place online via Teams. \nRegister here: https://events.teams.microsoft.com/event/e6e74877-3185-4293-b1b2-fdcf0441c364@158e39a1-001c-44f0-90d6-35872708c845 \nDon’t miss out on this cyber-revolution! Secure your spot\, mark your calendar\, and let’s dive deep into the realm of cybersecurity together. \nThe future is digital\, and OxCyber is leading the way!
URL:https://ukc3.co.uk/events/oxcyber-save-the-date-community-engagement-meeting-in-december-2/
CATEGORIES:OxCyber
ATTACH;FMTTYPE=image/png:https://ukc3.co.uk/wp-content/uploads/2025/04/OxCyber-3.png
END:VEVENT
END:VCALENDAR