BEGIN:VCALENDAR
VERSION:2.0
PRODID:-//UK Cyber Cluster Collaboration - ECPv6.15.16//NONSGML v1.0//EN
CALSCALE:GREGORIAN
METHOD:PUBLISH
X-WR-CALNAME:UK Cyber Cluster Collaboration
X-ORIGINAL-URL:https://ukc3.co.uk
X-WR-CALDESC:Events for UK Cyber Cluster Collaboration
REFRESH-INTERVAL;VALUE=DURATION:PT1H
X-Robots-Tag:noindex
X-PUBLISHED-TTL:PT1H
BEGIN:VTIMEZONE
TZID:UTC
BEGIN:STANDARD
TZOFFSETFROM:+0000
TZOFFSETTO:+0000
TZNAME:UTC
DTSTART:20240101T000000
END:STANDARD
END:VTIMEZONE
BEGIN:VEVENT
DTSTART;TZID=UTC:20250224T170000
DTEND;TZID=UTC:20250224T200000
DTSTAMP:20260422T115105
CREATED:20250203T121424Z
LAST-MODIFIED:20250203T121543Z
UID:6837-1740416400-1740427200@ukc3.co.uk
SUMMARY:CISO Safe Space - Mental Health & Wellbeing in Cyber Security
DESCRIPTION:Our next CISO Safe Space will take place on 24th February as part of Cyber Scotland Week 2025. \nHeld in partnership with CyberNorth\, this session will be led by Annabel Berry of Leading Cyber\, and will focus on mental health and wellbeing in the cyber security sector. \nAs cybersecurity professionals\, we operate in a high-pressure environment\, constantly facing evolving threats and the responsibility of protecting critical systems and data. This constant vigilance and the weight of potential consequences can lead to an overall reduction in wellbeing\, and longer-term significant stress\, anxiety\, and burnout. \nThe 24/7 nature of the industry\, coupled with the fear of missing a critical threat or experiencing a major breach\, creates a demanding and often overwhelming workload. \nThis can lead to critical errors in judgment\, missed crucial security indicators\, or an ongoing struggle to maintain focus and vigilance. \nThis workshop will address these challenges and why it is critical to our overall cyber resilience that we address this on an individual\, team and organisational level.
URL:https://ukc3.co.uk/events/ciso-safe-space-mental-health-wellbeing-in-cyber-security/
LOCATION:BJSS\, 180 West George Street 1st Floor\, Glasgow\, G2 2NR\, United Kingdom
CATEGORIES:ScotlandIS
ATTACH;FMTTYPE=image/png:https://ukc3.co.uk/wp-content/uploads/2024/01/Scotland-1.png
END:VEVENT
END:VCALENDAR