BEGIN:VCALENDAR
VERSION:2.0
PRODID:-//UK Cyber Cluster Collaboration - ECPv6.15.16//NONSGML v1.0//EN
CALSCALE:GREGORIAN
METHOD:PUBLISH
X-WR-CALNAME:UK Cyber Cluster Collaboration
X-ORIGINAL-URL:https://ukc3.co.uk
X-WR-CALDESC:Events for UK Cyber Cluster Collaboration
REFRESH-INTERVAL;VALUE=DURATION:PT1H
X-Robots-Tag:noindex
X-PUBLISHED-TTL:PT1H
BEGIN:VTIMEZONE
TZID:UTC
BEGIN:STANDARD
TZOFFSETFROM:+0000
TZOFFSETTO:+0000
TZNAME:UTC
DTSTART:20240101T000000
END:STANDARD
END:VTIMEZONE
BEGIN:VEVENT
DTSTART;TZID=UTC:20250902T113000
DTEND;TZID=UTC:20250902T120000
DTSTAMP:20260422T003917
CREATED:20250731T141934Z
LAST-MODIFIED:20250818T090206Z
UID:8671-1756812600-1756814400@ukc3.co.uk
SUMMARY:ScotlandIS Tech Tidbits: Make Your Data Lovable
DESCRIPTION:Join Scotland IS and their new series of events\, ScotlandIS Tech Tidbits\, on the first Tuesday of every month! \nThese 30 minute webinars will be short\, informative sessions on a variety of topics\, from exporting to cybersecurity\, cloud computing to procurement\, and many more. \nEach event will feature a ScotlandIS member offering their expert insights and advice on the topic in hand.  You do not need to be a member to attend these talks. \nIn September\, Scotland IS will be joined by Stephen Murphy\, Enterprise Account Manager at Quest. \nImagine you’re in a room full of mismatched spreadsheets\, each one insisting it knows who “Customer 123” is\, but none of them agree. That’s where Stephen’s story begins. He’ll walk you through the moment Quest finally said “Enough!” and ran their data only to discover they had been carrying around 127 duplicate fields like extra luggage. \nNext comes the secret weapon\, a lineage-hunting bot that mapped every column in minutes and gave Quest the confidence to launch a dashboard people actually wanted to use. Along the way Stephen will stay honest with three gut-check questions: Does it bring value? Can it last? Is it doable? He will finish with a quick look at AI that can sketch data models on the fly\, and leave you with one dare: go home\, retire one dusty report\, and start making your data lovable.
URL:https://ukc3.co.uk/events/scotlandis-tech-tidbits-make-your-data-lovable/
CATEGORIES:ScotlandIS
ATTACH;FMTTYPE=image/png:https://ukc3.co.uk/wp-content/uploads/2025/04/ScotlandIS-3.png
END:VEVENT
BEGIN:VEVENT
DTSTART;VALUE=DATE:20250925
DTEND;VALUE=DATE:20250926
DTSTAMP:20260422T003917
CREATED:20250108T172435Z
LAST-MODIFIED:20250818T085933Z
UID:6621-1758758400-1758844799@ukc3.co.uk
SUMMARY:ScotSoft 2025
DESCRIPTION:ScotSoft is a full day conference that aims to enhance knowledge and facilitate networking and collaboration. \nAs an expert within the technology sector\, ScotlandIS invites you to submit a short proposal of either a leadership or developer talk you would like to present. \nLeadership talks should be suitable for C Suite level within tech. If submitting a talk for the technical stream\, please indicate the level your talk would be aimed at eg\, highly technical/accessible to mid and senior level. \n\n\n\n\n\n\n\n\n\nscotlandDecision date is 17th January 2025\nPlease limit submission to 200 words\nNO SALES PITCHES\n\n\n\n\n\n\n\n\n\nPlease email your submission to Catriona Blair (catriona.blair@scotlandis.com)
URL:https://ukc3.co.uk/events/scotsoft-2025/
LOCATION:Edinburgh\, Edinburgh\, United Kingdom
CATEGORIES:ScotlandIS
ATTACH;FMTTYPE=image/png:https://ukc3.co.uk/wp-content/uploads/2023/06/Scotland-Women-in-Cyber.png
END:VEVENT
END:VCALENDAR