BEGIN:VCALENDAR
VERSION:2.0
PRODID:-//UK Cyber Cluster Collaboration - ECPv6.15.16//NONSGML v1.0//EN
CALSCALE:GREGORIAN
METHOD:PUBLISH
X-ORIGINAL-URL:https://ukc3.co.uk
X-WR-CALDESC:Events for UK Cyber Cluster Collaboration
REFRESH-INTERVAL;VALUE=DURATION:PT1H
X-Robots-Tag:noindex
X-PUBLISHED-TTL:PT1H
BEGIN:VTIMEZONE
TZID:UTC
BEGIN:STANDARD
TZOFFSETFROM:+0000
TZOFFSETTO:+0000
TZNAME:UTC
DTSTART:20240101T000000
END:STANDARD
END:VTIMEZONE
BEGIN:VEVENT
DTSTART;TZID=UTC:20251202T113000
DTEND;TZID=UTC:20251202T120000
DTSTAMP:20260421T195212
CREATED:20251114T160205Z
LAST-MODIFIED:20251114T160205Z
UID:12723-1764675000-1764676800@ukc3.co.uk
SUMMARY:ScotlandIS Tech Tidbits: Journey to ISO Certification
DESCRIPTION:Join ScotlandIS Tech Tidbits webinar with guest speaker\, Grant McGregor. \n\n\nThis is a 30 minute webinars will be short\, informative sessions on a variety of topics\, from exporting to cybersecurity\, cloud computing to procurement\, and many more. \nIn 2021\, Grant McGregor Ltd made a strategic decision to work towards ISO9001 (Quality Management) and ISO27001 (Information Security) certifications. By December 2023\, they achieved both\, marking a major milestone in their commitment to quality and security. \nJoin ScotlandIS for this presentation to learn: \n• Why they started this journey \n• How ISO standards help protect customers and improve processes \n• The benefits seen since certification \nThis is an opportunity to understand how these internationally recognised standards strengthen trust\, efficiency\, and data security.
URL:https://ukc3.co.uk/events/scotlandis-tech-tidbits-journey-to-iso-certification/
CATEGORIES:ScotlandIS
ATTACH;FMTTYPE=image/png:https://ukc3.co.uk/wp-content/uploads/2025/04/ScotlandIS-3.png
END:VEVENT
BEGIN:VEVENT
DTSTART;TZID=UTC:20251204T150000
DTEND;TZID=UTC:20251204T160000
DTSTAMP:20260421T195212
CREATED:20251114T160457Z
LAST-MODIFIED:20251114T160457Z
UID:12725-1764860400-1764864000@ukc3.co.uk
SUMMARY:Scotland IS: Digital Critical Friends Information Session
DESCRIPTION:An information session about how the Digital Critical Friends initiative works. \n\n\nDo you work in tech\, are passionate about diversity and encouraging future generations into the industry? \nThis is a perfect opportunity to find out more about our Digital Critical Friends (DCF) programme and its partners\, highlighting how you can get involved. \nThis initiative matches representatives from industry (the Digital Critical Friends) with secondary schools across Scotland\, to support the decreasing number of Computing Science teachers and to inspire students with the vast opportunities available to them in technology careers. \nPresentations will take place from ScotlandIS\, STEM Ambassadors and Tech She Can about their parts in the programme\, followed by the chance to ask questions. \nOutline of topics that will be covered: \n\nScotlandIS – history of DCF\, its purpose/aims\, the role played\nSTEM Ambassadors – who they are and process of getting on board as a DCF\nTech She Can – Tech We Can resources and how they can be utilised and accessed\n\nWhat will the audience learn or take away from the event? \n\nWhat being a DCF involves\, level of commitment required and the process covered in becoming one.\n\nThis is your chance to give back and help nurture the next generation!
URL:https://ukc3.co.uk/events/scotland-is-digital-critical-friends-information-session/
CATEGORIES:ScotlandIS
ATTACH;FMTTYPE=image/png:https://ukc3.co.uk/wp-content/uploads/2025/04/ScotlandIS-3.png
END:VEVENT
END:VCALENDAR