BEGIN:VCALENDAR
VERSION:2.0
PRODID:-//UK Cyber Cluster Collaboration - ECPv6.15.16//NONSGML v1.0//EN
CALSCALE:GREGORIAN
METHOD:PUBLISH
X-ORIGINAL-URL:https://ukc3.co.uk
X-WR-CALDESC:Events for UK Cyber Cluster Collaboration
REFRESH-INTERVAL;VALUE=DURATION:PT1H
X-Robots-Tag:noindex
X-PUBLISHED-TTL:PT1H
BEGIN:VTIMEZONE
TZID:UTC
BEGIN:STANDARD
TZOFFSETFROM:+0000
TZOFFSETTO:+0000
TZNAME:UTC
DTSTART:20250101T000000
END:STANDARD
END:VTIMEZONE
BEGIN:VEVENT
DTSTART;TZID=UTC:20260120T173000
DTEND;TZID=UTC:20260120T193000
DTSTAMP:20260421T181246
CREATED:20251114T160846Z
LAST-MODIFIED:20251215T170334Z
UID:12727-1768930200-1768937400@ukc3.co.uk
SUMMARY:Scotland IS: Tech Trends 2026 Edinburgh
DESCRIPTION:Tech Trends is your opportunity to get ahead of the game and discover the key technologies making an appearance in the coming year. \n\n\nGiving his rundown of the Top Ten Tech Trends of 2026 will be former Gartner analyst Richard Marshall\, whose expertise covers numerous areas of software development including\, mobile\, low code\, web tools\, AI and Blockchain. \nJoin ScotlandIS in Edinburgh in January for an eye-opening evening where you will be privy to the latest developments in the industry and the expert predictions for 2026. \nA huge thank you to DLA Piper for returning to host once again. \nThe distance between technology leaders and laggards is growing ever greater\, with increasing numbers of companies finding themselves in transition. \nDon’t get left behind – book your ticket for Tech Trends 2026 today. \nTech Trends is free for ScotlandIS members; non-member ticket price is £30 (inclusive of VAT) and an invoice will be sent following registration. \nMaximum of two attendees per organisation due to capacity.
URL:https://ukc3.co.uk/events/scotland-is-tech-trends-2026/
CATEGORIES:ScotlandIS
ATTACH;FMTTYPE=image/png:https://ukc3.co.uk/wp-content/uploads/2025/04/ScotlandIS-3.png
END:VEVENT
BEGIN:VEVENT
DTSTART;TZID=UTC:20260121T173000
DTEND;TZID=UTC:20260121T193000
DTSTAMP:20260421T181246
CREATED:20251114T161408Z
LAST-MODIFIED:20251114T161408Z
UID:12729-1769016600-1769023800@ukc3.co.uk
SUMMARY:ScotlandIS: Tech Trends 2026 - Glasgow
DESCRIPTION:Tech Trends is your opportunity to get ahead of the game and discover the key technologies making an appearance in the coming year. \nGiving his rundown of the Top Ten Tech Trends of 2026 will be former Gartner analyst Richard Marshall\, whose expertise covers numerous areas of software development including\, mobile\, low code\, web tools\, AI and Blockchain. \nJoin ScotlandIS in Glasgow in January for an eye-opening evening where you will be privy to the latest developments in the industry and the expert predictions for 2026. \nA huge thank you to Burness Paull LLP for returning to host once again. \nThe distance between technology leaders and laggards is growing ever greater\, with increasing numbers of companies finding themselves in transition. \nDon’t get left behind – book your ticket for Tech Trends 2026 today. \nTech Trends is free for ScotlandIS members; non-member ticket price is £30 (inclusive of VAT) and an invoice will be sent following registration. \nMaximum of two attendees per organisation due to capacity.
URL:https://ukc3.co.uk/events/scotlandis-tech-trends-2026-glasgow/
LOCATION:Floor 4\, 2 Atlantic Square\, Glasgow\, United Kingdom
CATEGORIES:ScotlandIS
ATTACH;FMTTYPE=image/png:https://ukc3.co.uk/wp-content/uploads/2025/04/ScotlandIS-3.png
END:VEVENT
BEGIN:VEVENT
DTSTART;TZID=UTC:20260122T173000
DTEND;TZID=UTC:20260122T193000
DTSTAMP:20260421T181246
CREATED:20251114T161721Z
LAST-MODIFIED:20251114T161721Z
UID:12733-1769103000-1769110200@ukc3.co.uk
SUMMARY:ScotlandIS: Tech Trends 2026 - Aberdeen
DESCRIPTION:Tech Trends is your opportunity to get ahead of the game and discover the key technologies making an appearance in the coming year.
URL:https://ukc3.co.uk/events/scotlandis-tech-trends-2026-aberdeen/
LOCATION:13 Queen’s Road\, Aberdeen\, United Kingdom
CATEGORIES:ScotlandIS
ATTACH;FMTTYPE=image/png:https://ukc3.co.uk/wp-content/uploads/2025/04/ScotlandIS-3.png
END:VEVENT
END:VCALENDAR