BEGIN:VCALENDAR
VERSION:2.0
PRODID:-//UK Cyber Cluster Collaboration - ECPv6.15.16//NONSGML v1.0//EN
CALSCALE:GREGORIAN
METHOD:PUBLISH
X-WR-CALNAME:UK Cyber Cluster Collaboration
X-ORIGINAL-URL:https://ukc3.co.uk
X-WR-CALDESC:Events for UK Cyber Cluster Collaboration
REFRESH-INTERVAL;VALUE=DURATION:PT1H
X-Robots-Tag:noindex
X-PUBLISHED-TTL:PT1H
BEGIN:VTIMEZONE
TZID:Europe/Paris
BEGIN:DAYLIGHT
TZOFFSETFROM:+0100
TZOFFSETTO:+0200
TZNAME:CEST
DTSTART:20230326T010000
END:DAYLIGHT
BEGIN:STANDARD
TZOFFSETFROM:+0200
TZOFFSETTO:+0100
TZNAME:CET
DTSTART:20231029T010000
END:STANDARD
BEGIN:DAYLIGHT
TZOFFSETFROM:+0100
TZOFFSETTO:+0200
TZNAME:CEST
DTSTART:20240331T010000
END:DAYLIGHT
BEGIN:STANDARD
TZOFFSETFROM:+0200
TZOFFSETTO:+0100
TZNAME:CET
DTSTART:20241027T010000
END:STANDARD
BEGIN:DAYLIGHT
TZOFFSETFROM:+0100
TZOFFSETTO:+0200
TZNAME:CEST
DTSTART:20250330T010000
END:DAYLIGHT
BEGIN:STANDARD
TZOFFSETFROM:+0200
TZOFFSETTO:+0100
TZNAME:CET
DTSTART:20251026T010000
END:STANDARD
END:VTIMEZONE
BEGIN:VEVENT
DTSTART;TZID=Europe/Paris:20240523T120000
DTEND;TZID=Europe/Paris:20240523T153000
DTSTAMP:20260423T033139
CREATED:20240425T085639Z
LAST-MODIFIED:20240513T125921Z
UID:3591-1716465600-1716478200@ukc3.co.uk
SUMMARY:CyberNorth & ScotlandIS | IT MSP Best Practice Charter
DESCRIPTION:IT MSP Best Practice Charter\nThur\, 23 May 2024 12:00 PM – 03:30 PM BST\nIn association with ScotlandIS \nJoin CyberNorth’s next ITMS Community event on 23rd May in Newcastle \nScotlandIS are collaborating with the northern cyber cluster for this event in order to promote our IT MSP Best Practice Charter and to raise awareness around supply chain security. \nThe event aims to bring together ITMSPs from Scotland and the North to foster networking opportunities\, and facilitate the sharing of challenges and best practices. \nAGENDA \n12.00-12.20 Registration\, Tea and Coffee \n12.20-12.30 Welcome\, ITMSP Cluster and Charter Update – Beverly Bowles\, ScotlandIS Head of Cyber \n12.30 -13.00 Building Resilience – Debra Cairns\, Managing Director\, Net Defence \n13.00-13.30 Nihon Cyber \n13.30-14.15 Lunch \n14.15-15.00 Supply Chain Security & Product Demo – Mark Lamb\, Founder\, Highground \n15.00-15.30 Networking \nCyberNorth and ScotlandIS look forward to welcoming you to this enriching IT Managed Service Providers Networking Event\, where you will gain valuable insights\, forge new connections\, and contribute to the growth of the ITMSP community in Scotland and Newcastle.
URL:https://ukc3.co.uk/events/cybernorth-scotlandis-it-msp-best-practice-charter/
LOCATION:Home
CATEGORIES:CyberNorth,ScotlandIS
ATTACH;FMTTYPE=image/png:https://ukc3.co.uk/wp-content/uploads/2024/04/CyberNorth-Scotlandis-1.png
END:VEVENT
END:VCALENDAR