BEGIN:VCALENDAR
VERSION:2.0
PRODID:-//UK Cyber Cluster Collaboration - ECPv6.15.16//NONSGML v1.0//EN
CALSCALE:GREGORIAN
METHOD:PUBLISH
X-ORIGINAL-URL:https://ukc3.co.uk
X-WR-CALDESC:Events for UK Cyber Cluster Collaboration
REFRESH-INTERVAL;VALUE=DURATION:PT1H
X-Robots-Tag:noindex
X-PUBLISHED-TTL:PT1H
BEGIN:VTIMEZONE
TZID:UTC
BEGIN:STANDARD
TZOFFSETFROM:+0000
TZOFFSETTO:+0000
TZNAME:UTC
DTSTART:20240101T000000
END:STANDARD
END:VTIMEZONE
BEGIN:VEVENT
DTSTART;TZID=UTC:20250320T190000
DTEND;TZID=UTC:20250320T190000
DTSTAMP:20260422T115830
CREATED:20250108T171017Z
LAST-MODIFIED:20250108T171221Z
UID:6608-1742497200-1742497200@ukc3.co.uk
SUMMARY:Digital Tech Awards 2025
DESCRIPTION:The ScotlandIS Digital Technology Awards showcase excellence within the industry rewarding the innovation\, expertise and ambition of businesses large and small – and the people that drive them. \nLet’s highlight some of the great achievements within the tech sector over the last 12 months – nominate your organisation or an individual for the chance to be recognised amongst your peers. \nThere are a variety of different awards up for grabs that could shine a light on the fantastic work you’ve been doing\, and all the criteria for each category is detailed below so you can prepare your application answers in advance. \nDigital Tech 2025 will take place on 20th March\, at the Radisson Blu hotel in Glasgow. We look forward to you joining us for a night of food\, fun and celebration of the industry. \n\n\n\n\n\n\n\n\n\n\n\n\n\n\n\n\n\n\n\nIf you have any questions about the Digital Tech Awards\, please contact catriona.blair@scotlandis.com.
URL:https://ukc3.co.uk/events/digital-tech-awards-2025/
LOCATION:Radisson Blu Hotel\, Glasgow\, 301 Argyle St\, Glasgow\, G2 8DL\, United Kingdom
CATEGORIES:ScotlandIS
ATTACH;FMTTYPE=image/png:https://ukc3.co.uk/wp-content/uploads/2023/07/Scotland-Virtual-coffee.png
END:VEVENT
END:VCALENDAR