BEGIN:VCALENDAR
VERSION:2.0
PRODID:-//UK Cyber Cluster Collaboration - ECPv6.15.16//NONSGML v1.0//EN
CALSCALE:GREGORIAN
METHOD:PUBLISH
X-WR-CALNAME:UK Cyber Cluster Collaboration
X-ORIGINAL-URL:https://ukc3.co.uk
X-WR-CALDESC:Events for UK Cyber Cluster Collaboration
REFRESH-INTERVAL;VALUE=DURATION:PT1H
X-Robots-Tag:noindex
X-PUBLISHED-TTL:PT1H
BEGIN:VTIMEZONE
TZID:UTC
BEGIN:STANDARD
TZOFFSETFROM:+0000
TZOFFSETTO:+0000
TZNAME:UTC
DTSTART:20240101T000000
END:STANDARD
END:VTIMEZONE
BEGIN:VEVENT
DTSTART;TZID=UTC:20250605T123000
DTEND;TZID=UTC:20250605T160000
DTSTAMP:20260422T070713
CREATED:20250530T153307Z
LAST-MODIFIED:20250530T153353Z
UID:8259-1749126600-1749139200@ukc3.co.uk
SUMMARY:Helping Third Sector Stay Safe Online
DESCRIPTION:Charities are using digital systems every day to deliver their services and keep in touch but with this capability comes a level of risk. Join us for an engaging half-day event tailored specifically for third sector organisations looking to help their organisation stay safe online. This free event is designed to give you the tools\, knowledge\, and connections to boost your cyber resilience. \nImprove Cyber Awareness\nLearn steps to enhance your organisation’s understanding of cyber risks and how to stay vigilant. \nInteractive Workshop: Build Your Cyber Incident Response Plan\nGet hands-on experience creating a tailored plan to ensure your organisation is prepared to respond effectively to cyber incidents. \nOne-to-One ‘Meet the Experts’ Sessions\nSit down with cyber experts to discuss personalised steps you can make for improving your organisation’s cyber resilience. \nLunch & Networking\nEnjoy a relaxed lunch while connecting with like-minded professionals from the third sector. Share experiences\, challenges\, and solutions as you strengthen your network. \nWho should attend? \nAnyone working and/or volunteering for a third sector organisation in Scotland at the beginning of their cyber resilience journey\, and maybe not sure where to start\, who provides leadership and/or is responsible for aspects of operations/IT. \nThere are stairs within this venue. If you have access requirements please contact Cat Blair on catriona.blair@scotlandis.com before attending this event. \nDon’t miss this opportunity to take the first steps towards a safer\, more secure organisation. Together\, we can build a resilient third sector\, equipped to thrive in the face of digital challenges
URL:https://ukc3.co.uk/events/helping-third-sector-stay-safe-online/
LOCATION:Impact Hub Inverness\, 67a Castle Street\, Inverness\, IV2 3DU
CATEGORIES:ScotlandIS
ATTACH;FMTTYPE=image/png:https://ukc3.co.uk/wp-content/uploads/2025/04/ScotlandIS-2.png
END:VEVENT
END:VCALENDAR