BEGIN:VCALENDAR
VERSION:2.0
PRODID:-//UK Cyber Cluster Collaboration - ECPv6.15.16//NONSGML v1.0//EN
CALSCALE:GREGORIAN
METHOD:PUBLISH
X-WR-CALNAME:UK Cyber Cluster Collaboration
X-ORIGINAL-URL:https://ukc3.co.uk
X-WR-CALDESC:Events for UK Cyber Cluster Collaboration
REFRESH-INTERVAL;VALUE=DURATION:PT1H
X-Robots-Tag:noindex
X-PUBLISHED-TTL:PT1H
BEGIN:VTIMEZONE
TZID:UTC
BEGIN:STANDARD
TZOFFSETFROM:+0000
TZOFFSETTO:+0000
TZNAME:UTC
DTSTART:20240101T000000
END:STANDARD
END:VTIMEZONE
BEGIN:VEVENT
DTSTART;TZID=UTC:20250611T110000
DTEND;TZID=UTC:20250611T120000
DTSTAMP:20260422T070804
CREATED:20250530T153449Z
LAST-MODIFIED:20250828T083126Z
UID:8262-1749639600-1749643200@ukc3.co.uk
SUMMARY:Scotland IS: Demystifying Artificial Intelligence: A Human Centric Approach
DESCRIPTION:Join Scotland IS’s webinar in June to gain a better understanding of the in’s and out’s around artificial intelligence. \nTheir guest speaker will be owner of Traction Industries\, Lucy Batley\, whose tech experience spans 30 years designing for the digital world\, her talent recognised at the outset of her career by winning EMAP’s Best Young Designer. \nShe has since founded and scaled digital design agencies and established Traction Industries\, providing solutions incorporating Artificial Intelligence and emerging technologies to drive innovation. A thought leader and visionary designer\, Lucy is passionate about how AI can work with humans and is a sought-after speaker\, AI expert and a broker. \nHer talk will cover: \n\nMyth busting – positives and negatives\nThe context of AI\nStrategic implementation\nThe future – what’s around the corner\n\nBook your space now!
URL:https://ukc3.co.uk/events/demystifying-artificial-intelligence-a-human-centric-approach/
LOCATION:Online
CATEGORIES:ScotlandIS
ATTACH;FMTTYPE=image/png:https://ukc3.co.uk/wp-content/uploads/2025/04/ScotlandIS-2.png
END:VEVENT
END:VCALENDAR