BEGIN:VCALENDAR
VERSION:2.0
PRODID:-//UK Cyber Cluster Collaboration - ECPv6.15.16//NONSGML v1.0//EN
CALSCALE:GREGORIAN
METHOD:PUBLISH
X-ORIGINAL-URL:https://ukc3.co.uk
X-WR-CALDESC:Events for UK Cyber Cluster Collaboration
REFRESH-INTERVAL;VALUE=DURATION:PT1H
X-Robots-Tag:noindex
X-PUBLISHED-TTL:PT1H
BEGIN:VTIMEZONE
TZID:UTC
BEGIN:STANDARD
TZOFFSETFROM:+0000
TZOFFSETTO:+0000
TZNAME:UTC
DTSTART:20240101T000000
END:STANDARD
END:VTIMEZONE
BEGIN:VEVENT
DTSTART;TZID=UTC:20250617T170000
DTEND;TZID=UTC:20250617T190000
DTSTAMP:20260422T074027
CREATED:20250530T153700Z
LAST-MODIFIED:20250828T082308Z
UID:8264-1750179600-1750186800@ukc3.co.uk
SUMMARY:Scotland IS: Beyond Retail: Lessons from Cyber Attacks That Every C-Suite Must Act On
DESCRIPTION:The S.E.L.F group provides a forum for software engineering leaders\, CIO’s and CTO’s across the Scottish tech sector to share ideas and explore common challenges. The meetups also provide opportunities for informal mentoring and potential opportunities for joint working. \nSpeaker: Colin Fraser\, i-confidential. \nThis conversation will cover the key questions which might be asked by the C-Suite and the answers that are needed to give comfort. \nAlthough some of those questions may seem naïve\, we shouldn’t underestimate the techniques an accomplished Non-Executive Director or CEO will use to uncover some uncomfortable truths. \nColin will only use whatever public domain information is available at the time of the meeting\, to challenge the audience to think about whether they are in a good place or not.
URL:https://ukc3.co.uk/events/beyond-retail-lessons-from-cyber-attacks-that-every-c-suite-must-act-on/
LOCATION:2 Redheughs Rigg\, 2 Redheughs Rigg\, Vardant\, EH12 9DQ
CATEGORIES:ScotlandIS
ATTACH;FMTTYPE=image/png:https://ukc3.co.uk/wp-content/uploads/2025/04/ScotlandIS-1.png
END:VEVENT
END:VCALENDAR