BEGIN:VCALENDAR
VERSION:2.0
PRODID:-//UK Cyber Cluster Collaboration - ECPv6.15.16//NONSGML v1.0//EN
CALSCALE:GREGORIAN
METHOD:PUBLISH
X-WR-CALNAME:UK Cyber Cluster Collaboration
X-ORIGINAL-URL:https://ukc3.co.uk
X-WR-CALDESC:Events for UK Cyber Cluster Collaboration
REFRESH-INTERVAL;VALUE=DURATION:PT1H
X-Robots-Tag:noindex
X-PUBLISHED-TTL:PT1H
BEGIN:VTIMEZONE
TZID:UTC
BEGIN:STANDARD
TZOFFSETFROM:+0000
TZOFFSETTO:+0000
TZNAME:UTC
DTSTART:20250101T000000
END:STANDARD
END:VTIMEZONE
BEGIN:VEVENT
DTSTART;TZID=UTC:20260203T100000
DTEND;TZID=UTC:20260203T103000
DTSTAMP:20260421T181345
CREATED:20251215T152045Z
LAST-MODIFIED:20260105T162718Z
UID:14327-1770112800-1770114600@ukc3.co.uk
SUMMARY:ScotlandIS: Tech Tidbits - AI for Startups
DESCRIPTION:Join ScotlandIS Tech Tidbits\, on the first Tuesday of every month! \nThese 30 minute webinars will be short\, informative sessions on a variety of topics\, from exporting to cybersecurity\, cloud computing to procurement\, and many more. \nEach event will feature a ScotlandIS member offering their expert insights and advice on the topic in hand\, however you do not need to be a member to attend these talks. \nFor February\, guest speaker Kathryn Strachan\, a marketer\, business advisor and author.  AI isn’t just for marketing copy. It can transform how startups solve real business problems. In this session\, you’ll learn how to use AI tools like ChatGPT to tackle critical challenges such as extending runway\, reducing churn\, designing pricing experiments\, and improving operational efficiency. \nThrough real-world examples and live exercises\, you will learn how to turn vague questions into powerful prompts that deliver insights\, action plans\, and data-driven decisions.
URL:https://ukc3.co.uk/events/scotland-is-tech-tidbits-ai-for-startups/
CATEGORIES:ScotlandIS
ATTACH;FMTTYPE=image/png:https://ukc3.co.uk/wp-content/uploads/2025/04/ScotlandIS-3.png
END:VEVENT
END:VCALENDAR