BEGIN:VCALENDAR
VERSION:2.0
PRODID:-//UK Cyber Cluster Collaboration - ECPv6.15.16//NONSGML v1.0//EN
CALSCALE:GREGORIAN
METHOD:PUBLISH
X-ORIGINAL-URL:https://ukc3.co.uk
X-WR-CALDESC:Events for UK Cyber Cluster Collaboration
REFRESH-INTERVAL;VALUE=DURATION:PT1H
X-Robots-Tag:noindex
X-PUBLISHED-TTL:PT1H
BEGIN:VTIMEZONE
TZID:UTC
BEGIN:STANDARD
TZOFFSETFROM:+0000
TZOFFSETTO:+0000
TZNAME:UTC
DTSTART:20250101T000000
END:STANDARD
END:VTIMEZONE
BEGIN:VEVENT
DTSTART;TZID=UTC:20260226T130000
DTEND;TZID=UTC:20260226T133000
DTSTAMP:20260421T164817
CREATED:20251215T155609Z
LAST-MODIFIED:20251215T155609Z
UID:14334-1772110800-1772112600@ukc3.co.uk
SUMMARY:ScotlandIS: Tech Tidbits: From Local Shop to Mega Corp\, Everyone Can Use Threat Intel
DESCRIPTION:Join ScotlandIS Tech Tidbits\, on the first Tuesday of every month! \nThese 30 minute webinars will be short\, informative sessions on a variety of topics\, from exporting to cybersecurity\, cloud computing to procurement\, and many more. \nEach event will feature a ScotlandIS member offering their expert insights and advice on the topic in hand\, however you do not need to be a member to attend these talks. \nFor this third webinar in February to mark Cyber Scotland Week 2026\, guest speaker Cian Heasley\, Principle Consultant and Threat Function Lead at Acumen Cyber will be presenting on the steps that a typical organisation with limited security resources could take to integrate threat intelligence and knowledge of the threat landscape for their industry sector into operational and strategic security planning. \nThe focus will be on practical examples that attendees can take away and adapt for their own organisations – book your place to join us in February.
URL:https://ukc3.co.uk/events/scotlandis-tech-tidbits-from-local-shop-to-mega-corp-everyone-can-use-threat-intel/
CATEGORIES:ScotlandIS
ATTACH;FMTTYPE=image/png:https://ukc3.co.uk/wp-content/uploads/2025/04/ScotlandIS-2.png
END:VEVENT
END:VCALENDAR