BEGIN:VCALENDAR
VERSION:2.0
PRODID:-//UK Cyber Cluster Collaboration - ECPv6.15.16//NONSGML v1.0//EN
CALSCALE:GREGORIAN
METHOD:PUBLISH
X-WR-CALNAME:UK Cyber Cluster Collaboration
X-ORIGINAL-URL:https://ukc3.co.uk
X-WR-CALDESC:Events for UK Cyber Cluster Collaboration
REFRESH-INTERVAL;VALUE=DURATION:PT1H
X-Robots-Tag:noindex
X-PUBLISHED-TTL:PT1H
BEGIN:VTIMEZONE
TZID:UTC
BEGIN:STANDARD
TZOFFSETFROM:+0000
TZOFFSETTO:+0000
TZNAME:UTC
DTSTART:20230101T000000
END:STANDARD
END:VTIMEZONE
BEGIN:VTIMEZONE
TZID:Europe/Paris
BEGIN:DAYLIGHT
TZOFFSETFROM:+0100
TZOFFSETTO:+0200
TZNAME:CEST
DTSTART:20230326T010000
END:DAYLIGHT
BEGIN:STANDARD
TZOFFSETFROM:+0200
TZOFFSETTO:+0100
TZNAME:CET
DTSTART:20231029T010000
END:STANDARD
BEGIN:DAYLIGHT
TZOFFSETFROM:+0100
TZOFFSETTO:+0200
TZNAME:CEST
DTSTART:20240331T010000
END:DAYLIGHT
BEGIN:STANDARD
TZOFFSETFROM:+0200
TZOFFSETTO:+0100
TZNAME:CET
DTSTART:20241027T010000
END:STANDARD
BEGIN:DAYLIGHT
TZOFFSETFROM:+0100
TZOFFSETTO:+0200
TZNAME:CEST
DTSTART:20250330T010000
END:DAYLIGHT
BEGIN:STANDARD
TZOFFSETFROM:+0200
TZOFFSETTO:+0100
TZNAME:CET
DTSTART:20251026T010000
END:STANDARD
END:VTIMEZONE
BEGIN:VEVENT
DTSTART;TZID=UTC:20250617T170000
DTEND;TZID=UTC:20250617T190000
DTSTAMP:20260421T150856
CREATED:20250530T153700Z
LAST-MODIFIED:20250828T082308Z
UID:8264-1750179600-1750186800@ukc3.co.uk
SUMMARY:Scotland IS: Beyond Retail: Lessons from Cyber Attacks That Every C-Suite Must Act On
DESCRIPTION:The S.E.L.F group provides a forum for software engineering leaders\, CIO’s and CTO’s across the Scottish tech sector to share ideas and explore common challenges. The meetups also provide opportunities for informal mentoring and potential opportunities for joint working. \nSpeaker: Colin Fraser\, i-confidential. \nThis conversation will cover the key questions which might be asked by the C-Suite and the answers that are needed to give comfort. \nAlthough some of those questions may seem naïve\, we shouldn’t underestimate the techniques an accomplished Non-Executive Director or CEO will use to uncover some uncomfortable truths. \nColin will only use whatever public domain information is available at the time of the meeting\, to challenge the audience to think about whether they are in a good place or not.
URL:https://ukc3.co.uk/events/beyond-retail-lessons-from-cyber-attacks-that-every-c-suite-must-act-on/
LOCATION:2 Redheughs Rigg\, 2 Redheughs Rigg\, Vardant\, EH12 9DQ
CATEGORIES:ScotlandIS
ATTACH;FMTTYPE=image/png:https://ukc3.co.uk/wp-content/uploads/2025/04/ScotlandIS-1.png
END:VEVENT
BEGIN:VEVENT
DTSTART;TZID=UTC:20250611T110000
DTEND;TZID=UTC:20250611T120000
DTSTAMP:20260421T150856
CREATED:20250530T153449Z
LAST-MODIFIED:20250828T083126Z
UID:8262-1749639600-1749643200@ukc3.co.uk
SUMMARY:Scotland IS: Demystifying Artificial Intelligence: A Human Centric Approach
DESCRIPTION:Join Scotland IS’s webinar in June to gain a better understanding of the in’s and out’s around artificial intelligence. \nTheir guest speaker will be owner of Traction Industries\, Lucy Batley\, whose tech experience spans 30 years designing for the digital world\, her talent recognised at the outset of her career by winning EMAP’s Best Young Designer. \nShe has since founded and scaled digital design agencies and established Traction Industries\, providing solutions incorporating Artificial Intelligence and emerging technologies to drive innovation. A thought leader and visionary designer\, Lucy is passionate about how AI can work with humans and is a sought-after speaker\, AI expert and a broker. \nHer talk will cover: \n\nMyth busting – positives and negatives\nThe context of AI\nStrategic implementation\nThe future – what’s around the corner\n\nBook your space now!
URL:https://ukc3.co.uk/events/demystifying-artificial-intelligence-a-human-centric-approach/
LOCATION:Online
CATEGORIES:ScotlandIS
ATTACH;FMTTYPE=image/png:https://ukc3.co.uk/wp-content/uploads/2025/04/ScotlandIS-2.png
END:VEVENT
BEGIN:VEVENT
DTSTART;TZID=UTC:20250605T123000
DTEND;TZID=UTC:20250605T160000
DTSTAMP:20260421T150856
CREATED:20250530T153307Z
LAST-MODIFIED:20250530T153353Z
UID:8259-1749126600-1749139200@ukc3.co.uk
SUMMARY:Helping Third Sector Stay Safe Online
DESCRIPTION:Charities are using digital systems every day to deliver their services and keep in touch but with this capability comes a level of risk. Join us for an engaging half-day event tailored specifically for third sector organisations looking to help their organisation stay safe online. This free event is designed to give you the tools\, knowledge\, and connections to boost your cyber resilience. \nImprove Cyber Awareness\nLearn steps to enhance your organisation’s understanding of cyber risks and how to stay vigilant. \nInteractive Workshop: Build Your Cyber Incident Response Plan\nGet hands-on experience creating a tailored plan to ensure your organisation is prepared to respond effectively to cyber incidents. \nOne-to-One ‘Meet the Experts’ Sessions\nSit down with cyber experts to discuss personalised steps you can make for improving your organisation’s cyber resilience. \nLunch & Networking\nEnjoy a relaxed lunch while connecting with like-minded professionals from the third sector. Share experiences\, challenges\, and solutions as you strengthen your network. \nWho should attend? \nAnyone working and/or volunteering for a third sector organisation in Scotland at the beginning of their cyber resilience journey\, and maybe not sure where to start\, who provides leadership and/or is responsible for aspects of operations/IT. \nThere are stairs within this venue. If you have access requirements please contact Cat Blair on catriona.blair@scotlandis.com before attending this event. \nDon’t miss this opportunity to take the first steps towards a safer\, more secure organisation. Together\, we can build a resilient third sector\, equipped to thrive in the face of digital challenges
URL:https://ukc3.co.uk/events/helping-third-sector-stay-safe-online/
LOCATION:Impact Hub Inverness\, 67a Castle Street\, Inverness\, IV2 3DU
CATEGORIES:ScotlandIS
ATTACH;FMTTYPE=image/png:https://ukc3.co.uk/wp-content/uploads/2025/04/ScotlandIS-2.png
END:VEVENT
BEGIN:VEVENT
DTSTART;TZID=UTC:20250603T113000
DTEND;TZID=UTC:20250603T120000
DTSTAMP:20260421T150856
CREATED:20250530T153108Z
LAST-MODIFIED:20250530T153108Z
UID:8257-1748950200-1748952000@ukc3.co.uk
SUMMARY:ScotlandIS Tech Tidbits: Quantum Threats & TLS
DESCRIPTION:Join our new series of events\, ScotlandIS Tech Tidbits\, on the first Tuesday of every month! \nThese 30 minute webinars will be short\, informative sessions on a variety of topics\, from exporting to cybersecurity\, cloud computing to procurement\, and many more. \nEach event will feature a ScotlandIS member offering their expert insights and advice on the topic in hand\, however you do not need to be a member to attend these talks. \nFor our June event\, we’ll be joined by FullProxy’s Stuart McCann\, Cyber Security Account Manager\, and Stephen Mellon\, Technical Consultant\, to discuss Quantum Threats & TLS: Future-Proofing Your Certificate Strategy. \nExpired certificates can be a headache. Google’s 90-day certificate expiry timeframe and quantum computing are approaching\, and keeping your certificates up-to-date has never been more important. \nJoin FullProxy to learn more about key methods to gain full visibility of your certificate estate and automate the renewal process.
URL:https://ukc3.co.uk/events/scotlandis-tech-tidbits-quantum-threats-tls/
LOCATION:Online
CATEGORIES:ScotlandIS
ATTACH;FMTTYPE=image/png:https://ukc3.co.uk/wp-content/uploads/2025/04/ScotlandIS-2.png
END:VEVENT
BEGIN:VEVENT
DTSTART;TZID=UTC:20250320T190000
DTEND;TZID=UTC:20250320T190000
DTSTAMP:20260421T150856
CREATED:20250108T171017Z
LAST-MODIFIED:20250108T171221Z
UID:6608-1742497200-1742497200@ukc3.co.uk
SUMMARY:Digital Tech Awards 2025
DESCRIPTION:The ScotlandIS Digital Technology Awards showcase excellence within the industry rewarding the innovation\, expertise and ambition of businesses large and small – and the people that drive them. \nLet’s highlight some of the great achievements within the tech sector over the last 12 months – nominate your organisation or an individual for the chance to be recognised amongst your peers. \nThere are a variety of different awards up for grabs that could shine a light on the fantastic work you’ve been doing\, and all the criteria for each category is detailed below so you can prepare your application answers in advance. \nDigital Tech 2025 will take place on 20th March\, at the Radisson Blu hotel in Glasgow. We look forward to you joining us for a night of food\, fun and celebration of the industry. \n\n\n\n\n\n\n\n\n\n\n\n\n\n\n\n\n\n\n\nIf you have any questions about the Digital Tech Awards\, please contact catriona.blair@scotlandis.com.
URL:https://ukc3.co.uk/events/digital-tech-awards-2025/
LOCATION:Radisson Blu Hotel\, Glasgow\, 301 Argyle St\, Glasgow\, G2 8DL\, United Kingdom
CATEGORIES:ScotlandIS
ATTACH;FMTTYPE=image/png:https://ukc3.co.uk/wp-content/uploads/2023/07/Scotland-Virtual-coffee.png
END:VEVENT
BEGIN:VEVENT
DTSTART;TZID=UTC:20250224T170000
DTEND;TZID=UTC:20250224T200000
DTSTAMP:20260421T150856
CREATED:20250203T121424Z
LAST-MODIFIED:20250203T121543Z
UID:6837-1740416400-1740427200@ukc3.co.uk
SUMMARY:CISO Safe Space - Mental Health & Wellbeing in Cyber Security
DESCRIPTION:Our next CISO Safe Space will take place on 24th February as part of Cyber Scotland Week 2025. \nHeld in partnership with CyberNorth\, this session will be led by Annabel Berry of Leading Cyber\, and will focus on mental health and wellbeing in the cyber security sector. \nAs cybersecurity professionals\, we operate in a high-pressure environment\, constantly facing evolving threats and the responsibility of protecting critical systems and data. This constant vigilance and the weight of potential consequences can lead to an overall reduction in wellbeing\, and longer-term significant stress\, anxiety\, and burnout. \nThe 24/7 nature of the industry\, coupled with the fear of missing a critical threat or experiencing a major breach\, creates a demanding and often overwhelming workload. \nThis can lead to critical errors in judgment\, missed crucial security indicators\, or an ongoing struggle to maintain focus and vigilance. \nThis workshop will address these challenges and why it is critical to our overall cyber resilience that we address this on an individual\, team and organisational level.
URL:https://ukc3.co.uk/events/ciso-safe-space-mental-health-wellbeing-in-cyber-security/
LOCATION:BJSS\, 180 West George Street 1st Floor\, Glasgow\, G2 2NR\, United Kingdom
CATEGORIES:ScotlandIS
ATTACH;FMTTYPE=image/png:https://ukc3.co.uk/wp-content/uploads/2024/01/Scotland-1.png
END:VEVENT
BEGIN:VEVENT
DTSTART;TZID=UTC:20241212T140000
DTEND;TZID=UTC:20241212T150000
DTSTAMP:20260421T150856
CREATED:20241210T115914Z
LAST-MODIFIED:20241210T115914Z
UID:6428-1734012000-1734015600@ukc3.co.uk
SUMMARY:Digital Critical Friends Information Session
DESCRIPTION:This webinar is an opportunity for those curious about our Digital Critical Friends (DCF) initiative and interested in giving back to the next generation of talent to find out more about the programme and all of the partners involved.  \nOutline of the content covered:  \n\nScotlandIS – Fiona Thomson from ScotlandIS will give an overview of the history of DCF\, including its aims and the role it plays.\nSTEM Ambassadors – will discuss who they are and how they help with the process of getting on board as a DCF \nTech She Can – will summarise their helpful Tech We Can resources\, how they can be accessed\, and how they can be utilised in schools \nPolice Scotland – will provide some information around their Cyber Choices Programme \n\nWhat you will take away: \nAn understanding of the Digital Critical Friends programme\, how much time/commitment is required and the process associated with becoming a DCF. You will also be inspired to get involved and do your bit in helping to build the future generations of tech talent that our industry vitally needs! \nBook your free ticket below – meeting details will be emailed by 10am on the morning of the event. 
URL:https://ukc3.co.uk/events/digital-critical-friends-information-session/
LOCATION:Online
CATEGORIES:ScotlandIS
ATTACH;FMTTYPE=image/jpeg:https://ukc3.co.uk/wp-content/uploads/2024/10/ScotlandIS-Cyber-Logo.jpg
END:VEVENT
BEGIN:VEVENT
DTSTART;TZID=UTC:20240926T080000
DTEND;TZID=UTC:20240926T170000
DTSTAMP:20260421T150856
CREATED:20240703T095854Z
LAST-MODIFIED:20240703T095854Z
UID:4893-1727337600-1727370000@ukc3.co.uk
SUMMARY:ScotSoft 2024 | ScotlandIS
DESCRIPTION:ScotSoft 2024\nThursday 26th September \nScotSoft is back! Scotland’s leading and most anticipated tech conference will return to the EICC on Thursday 26th September 2024. Hear from a range of speakers bringing us future trends\, opportunities and strategies that will ensure Scotland’s digital community continues to grow. \nTickets are on sale now\, take advantage of the early bird sale now!
URL:https://ukc3.co.uk/events/scotsoft-2024-scotlandis/
CATEGORIES:ScotlandIS
ATTACH;FMTTYPE=image/png:https://ukc3.co.uk/wp-content/uploads/2023/06/ScotSoft-2023.png
END:VEVENT
BEGIN:VEVENT
DTSTART;VALUE=DATE:20240605
DTEND;VALUE=DATE:20240607
DTSTAMP:20260421T150856
CREATED:20240425T090206Z
LAST-MODIFIED:20240513T130027Z
UID:3595-1717545600-1717718399@ukc3.co.uk
SUMMARY:CyberNorth &  CyNam | Trade Mission to Cheltenham for Cheltenham Science Festival
DESCRIPTION:Trade Mission to Cheltenham for Cheltenham Science Festival\n5 – 6 June\nAs guests of our sister cluster\, Cynam\, CyberNorth is taking a delegation to Cheltenham during its Science Festival to meet with government organisations\, primes and SMEs based in the region. This will be a unique opportunity to be part of the UK’s most active and concentrated cyber community – a great one for networking and learning about the opportunities that exist for your business in this part of the country. \nPlease hold this date in your diary and complete the online form if you would like to attend. Places will be allocated on a first come\, first served basis with only one delegate from each company able to attend. Please note\, organisations will need to cover travel and accommodation costs. \nRegistration closes 5 March to allow time to secure hotel accommodation etc. \nWe will inform successful organisations by 6 March.
URL:https://ukc3.co.uk/events/cybernorth-cynam-trade-mission-to-cheltenham-for-cheltenham-science-festival/
LOCATION:Cheltenham Festivals\, Hub8\, The Brewery Quarter\, Cheltenham\, Gloucestershire GL50 3FF\, Cheltenham Festivals\, Hub8\, The Brewery Quarter\, Cheltenham\, Gloucestershire\, GL50 3FF
CATEGORIES:CyberNorth,CyNam,ScotlandIS
ATTACH;FMTTYPE=image/png:https://ukc3.co.uk/wp-content/uploads/2024/04/CyberNorth-CyNam-1.png
END:VEVENT
BEGIN:VEVENT
DTSTART;TZID=Europe/Paris:20240523T120000
DTEND;TZID=Europe/Paris:20240523T153000
DTSTAMP:20260421T150856
CREATED:20240425T085639Z
LAST-MODIFIED:20240513T125921Z
UID:3591-1716465600-1716478200@ukc3.co.uk
SUMMARY:CyberNorth & ScotlandIS | IT MSP Best Practice Charter
DESCRIPTION:IT MSP Best Practice Charter\nThur\, 23 May 2024 12:00 PM – 03:30 PM BST\nIn association with ScotlandIS \nJoin CyberNorth’s next ITMS Community event on 23rd May in Newcastle \nScotlandIS are collaborating with the northern cyber cluster for this event in order to promote our IT MSP Best Practice Charter and to raise awareness around supply chain security. \nThe event aims to bring together ITMSPs from Scotland and the North to foster networking opportunities\, and facilitate the sharing of challenges and best practices. \nAGENDA \n12.00-12.20 Registration\, Tea and Coffee \n12.20-12.30 Welcome\, ITMSP Cluster and Charter Update – Beverly Bowles\, ScotlandIS Head of Cyber \n12.30 -13.00 Building Resilience – Debra Cairns\, Managing Director\, Net Defence \n13.00-13.30 Nihon Cyber \n13.30-14.15 Lunch \n14.15-15.00 Supply Chain Security & Product Demo – Mark Lamb\, Founder\, Highground \n15.00-15.30 Networking \nCyberNorth and ScotlandIS look forward to welcoming you to this enriching IT Managed Service Providers Networking Event\, where you will gain valuable insights\, forge new connections\, and contribute to the growth of the ITMSP community in Scotland and Newcastle.
URL:https://ukc3.co.uk/events/cybernorth-scotlandis-it-msp-best-practice-charter/
LOCATION:Home
CATEGORIES:CyberNorth,ScotlandIS
ATTACH;FMTTYPE=image/png:https://ukc3.co.uk/wp-content/uploads/2024/04/CyberNorth-Scotlandis-1.png
END:VEVENT
BEGIN:VEVENT
DTSTART;TZID=UTC:20240502T180000
DTEND;TZID=UTC:20240502T220000
DTSTAMP:20260421T150856
CREATED:20240425T123136Z
LAST-MODIFIED:20240426T154351Z
UID:4143-1714672800-1714687200@ukc3.co.uk
SUMMARY:ScotlandIS | Digital Technology Awards
DESCRIPTION:ScotlandIS\nThu\, 2 May 2024\nThe ScotlandIS Digital Technology Awards showcase excellence within the industry\, rewarding the innovation\, expertise and ambition of businesses large and small – and the people who drive them. Let’s highlight some of the great achievements within the tech sector over the last 12 months – nominate your organisation or an individual for the chance to be recognised amongst your peers. Running for 14 years\, the Awards are well established within our industry\, offering winners the opportunity to use our platform to promote your business. Sharing your official winner’s badge on your website and social channels acts as a stamp of credibility and highlights quality standards to potential new clients. \nScotlandIS have two brand-new awards for 2024: Cyber Trailblazer\, looking to recognise companies that have a novel solution to a cyber challenge\, and Digital Tech Rising Star\, shining a light on early career talent and the leaders of tomorrow. \nIf you have created a product or service that brings benefit to society\, you could be eligible for the Tech for Good award\, while innovative applications of data to transform businesses could indicate our Data Trailblazer. \nIf your organisation shows employees they are valued\, and goes that extra mile to provide a positive working environment\, then you might just have the Best Wellbeing at Work. The Digital Tech Business of the Year category looks to recognise start-ups\, scale-ups and large companies that impress the judges with their outstanding tech\, commercial success and growth over the past year. \nThere are a variety of different awards up for grabs that could shine a light on the fantastic work you’ve been doing\, and all the criteria for each category is on our website so you can prepare your application answers in advance. Digital Tech 2024 will take place on 2nd May\, at the Radisson Blu hotel in Glasgow. We look forward to you joining us for a night of food\, fun and celebration of the industry. If you have any questions about the Digital Tech Awards\, please contact marketing@scotlandis.com. \nScotlandIS are delighted to announce their 2024 Digital Tech Awards Shortlist\, tickets are available to buy now. \nPlease contact Cat Blair catriona.blair@scotlandis.com to secure tickets.
URL:https://ukc3.co.uk/events/scotlandis-digital-technology-awards/
LOCATION:Ecosystem Development
CATEGORIES:ScotlandIS
ATTACH;FMTTYPE=image/png:https://ukc3.co.uk/wp-content/uploads/2024/01/Scotland-1.png
END:VEVENT
BEGIN:VEVENT
DTSTART;TZID=UTC:20240226T170000
DTEND;TZID=UTC:20240226T190000
DTSTAMP:20260421T150856
CREATED:20240129T165325Z
LAST-MODIFIED:20240129T165325Z
UID:2935-1708966800-1708974000@ukc3.co.uk
SUMMARY:ScotlandIS | Scotland Women in Cyber Networking
DESCRIPTION:Scotland Women in Cyber Networking\nMonday 26th February\, 05:00 pm – 07:00 pm GMT\n\n\nCome along to the latest Scotland Women in Cyber meetup as part of Cyber Scotland Week 2024. \nThe event will take the form of a networking drinks session\, directly following on from Plexal’s Cyber Runway: Dundee event for Cyber Scotland Week. \nCyber Runway will run from 10:30am till 5pm\, with expert speakers offering insights into the intricacies of global data privacy regulations such as GDPR and CCPA\, and other compliance requirements tailored specifically for start-ups. The Scotland Women in Cyber networking will then run from 5pm – 7pm. \nSo join ScotlandIS at Abertay cyberQuarter on 26th Feb to engage with a like-minded cyber community and exchange knowledge and ideas.
URL:https://ukc3.co.uk/events/scotlandis-scotland-women-in-cyber-networking/
LOCATION:cyberQuarter\, Abertay University\, cyberQuarter\, Abertay University\, Bell Street\, Dundee\, DD1 1HG\, United Kingdom
CATEGORIES:ScotlandIS
ATTACH;FMTTYPE=image/png:https://ukc3.co.uk/wp-content/uploads/2024/01/Scotland-2.png
END:VEVENT
BEGIN:VEVENT
DTSTART;TZID=UTC:20240226T103000
DTEND;TZID=UTC:20240226T170000
DTSTAMP:20260421T150856
CREATED:20240129T164950Z
LAST-MODIFIED:20240129T165059Z
UID:2931-1708943400-1708966800@ukc3.co.uk
SUMMARY:ScotlandIS | Cyber Runway: Dundee
DESCRIPTION:Cyber Runway: Dundee\nMonday 26th February\, 10:30 am – 05:00 pm GMT\n\n\nAre you a cybersecurity start-up who is interested in learning how you can navigate the complex landscape of regulations and cyber risk management? \nJoin Plexal as part of their Cyber Runway Regional events\, supported by ScotlandIS\, as expert speakers discuss the intricacies of global data privacy regulations such as GDPR and CCPA\, gaining insights into compliance requirements tailored specifically for start-ups. \nWhat’s more\, they will also help demystify the world of cyber insurance—from policy evaluation to risk assessment and navigating legal intricacies during the claims process. Uncover the key factors influencing cyber insurance policies\, the role of risk assessments\, and the legal landscape surrounding insurance claims. \nThe day will be filled of insightful talks\, interactive sessions\, and networking opportunities. \nTaking place during CyberScotland Week at Abertay cyberQuarter\, from 10:30am until 5:00pm\, the full agenda will be announced shortly. \nAbout Cyber Runway: \nCyber Runway\, funded by the Department of Science\, Innovation and Technology (DSIT)\, is the UK’s largest cyber security accelerator. We work with founders from idea to scale up to fast-track their growth. Over the past two years we’ve supported nearly 200 companies and helped them launch products\, raise funding and secure pilots.
URL:https://ukc3.co.uk/events/scotlandis-cyber-runway-dundee/
LOCATION:1-3 Bell Street Dundee DD1 1LH\, 1-3 Bell Street\, Dundee\, DD1 1LH
CATEGORIES:ScotlandIS
ATTACH;FMTTYPE=image/png:https://ukc3.co.uk/wp-content/uploads/2024/01/Scotland-1.png
END:VEVENT
END:VCALENDAR